BEGIN:VCALENDAR
VERSION:2.0
PRODID:-//Urs Held - ECPv6.15.20//NONSGML v1.0//EN
CALSCALE:GREGORIAN
METHOD:PUBLISH
X-WR-CALNAME:Urs Held
X-ORIGINAL-URL:https://www.ursheld.ch/ursheld
X-WR-CALDESC:Veranstaltungen für Urs Held
REFRESH-INTERVAL;VALUE=DURATION:PT1H
X-Robots-Tag:noindex
X-PUBLISHED-TTL:PT1H
BEGIN:VTIMEZONE
TZID:Europe/Zurich
BEGIN:DAYLIGHT
TZOFFSETFROM:+0100
TZOFFSETTO:+0200
TZNAME:CEST
DTSTART:20200329T010000
END:DAYLIGHT
BEGIN:STANDARD
TZOFFSETFROM:+0200
TZOFFSETTO:+0100
TZNAME:CET
DTSTART:20201025T010000
END:STANDARD
BEGIN:DAYLIGHT
TZOFFSETFROM:+0100
TZOFFSETTO:+0200
TZNAME:CEST
DTSTART:20210328T010000
END:DAYLIGHT
BEGIN:STANDARD
TZOFFSETFROM:+0200
TZOFFSETTO:+0100
TZNAME:CET
DTSTART:20211031T010000
END:STANDARD
BEGIN:DAYLIGHT
TZOFFSETFROM:+0100
TZOFFSETTO:+0200
TZNAME:CEST
DTSTART:20220327T010000
END:DAYLIGHT
BEGIN:STANDARD
TZOFFSETFROM:+0200
TZOFFSETTO:+0100
TZNAME:CET
DTSTART:20221030T010000
END:STANDARD
END:VTIMEZONE
BEGIN:VEVENT
DTSTART;TZID=Europe/Zurich:20210730T140000
DTEND;TZID=Europe/Zurich:20210801T180000
DTSTAMP:20260426T003440
CREATED:20201007T104848Z
LAST-MODIFIED:20210611T081408Z
UID:6298-1627653600-1627840800@www.ursheld.ch
SUMMARY:Heiler 5 (Heilerausbildung 5. Modul)
DESCRIPTION:die heiligen Wissenschaften erkennen . erfahren . entfalten . anwenden\nMit dem Heiler 5 setzen Maik Kökert und Urs Held die Trilogie Heiler 4-6 mit dem Schwerpunkt der heiligen Wissenschaften aus Ost und West fort. \n  \nIm Heiler 5 geht es u. a. um das\n\nverweilen im Absoluten (Sat-Chit-Ananda)\nerkennen und erfahren der heiligen Wissenschaften aus Ost und West \nabsichtslose verweilen und heilen aus der Präsenz des reinen Herzens (Heilung ohne einen HeilerIn bewirken)\nHeilen aus und auf astralen und kausalen Ebenen\nVertiefen aus dem\n\nHeiler 1 (Chakra & Aura)\nHeiler 2 (Lichtkörper/Merkaba)\nHeiler 3 (wirken aus dem Herz der Herzen)\nHeiler 4 (das Herz der Herzen / Einführung die heiligen Wissenschaften)\n\n\nvertiefte erkennen und anwenden der universell gültigen kosmischen Gesetze\nIn Kenntnis des wahren Schöpfungsprozesses Heilung und Manifestation zu bewirken\nspirituelle begleiten von Menschen an ihren wahren Ursprung und zurück ins Leben\n\n\nVeranstaltungsort: \n\nIndoor- und Outdoorräume in der Stille an der\n\nDorfstrasse 23 in\nD-38828 Adersleben\n\n\n\n  \nSeminargebühr Heiler 5: \n\nEuro 450.- (D/A) / Sfr. 495.-\n\n  \nzeitlicher Rahmen:  \n\nFreitag    30.07.2021:       14.00 – 20.00 Uhr\nSamstag  31.07.2021:       10.00 – 18.00 Uhr\nSonntag  01.08.2021:       10.00 – 18.00 Uhr\n\n  \nAnmeldung:                   \n\nurs@ursheld.ch    /  0041 79 753 53 05\ninfo@praxis-maik-koekert.de        /   0049 160 7750784\n\n  \nAusbildungsleitung: \n\nUrs Held wirkt als spiritueller Begleiter & Heiler\, Mentor & Lehrer\,\nMaik Kökert wirkt als Heiler\, systemischer Therapeut\, Körpertherapeut und Coach\n\n  \nWir freuen uns auf Deine Teilnahme und stehen für weitere Fragen gerne zur Verfügung. \n 
URL:https://www.ursheld.ch/ursheld/event/heiler-5/
LOCATION:Heiler 5\, Wernigerode oder Halberstadt\, Deutschland
CATEGORIES:Ausbildung
ATTACH;FMTTYPE=image/jpeg:https://www.ursheld.ch/ursheld/wp-content/uploads/2020/03/Kukumbrian.jpg
END:VEVENT
END:VCALENDAR