BEGIN:VCALENDAR
VERSION:2.0
PRODID:-//Urs Held - ECPv6.15.20//NONSGML v1.0//EN
CALSCALE:GREGORIAN
METHOD:PUBLISH
X-ORIGINAL-URL:https://www.ursheld.ch/ursheld
X-WR-CALDESC:Veranstaltungen für Urs Held
REFRESH-INTERVAL;VALUE=DURATION:PT1H
X-Robots-Tag:noindex
X-PUBLISHED-TTL:PT1H
BEGIN:VTIMEZONE
TZID:Europe/Zurich
BEGIN:DAYLIGHT
TZOFFSETFROM:+0100
TZOFFSETTO:+0200
TZNAME:CEST
DTSTART:20200329T010000
END:DAYLIGHT
BEGIN:STANDARD
TZOFFSETFROM:+0200
TZOFFSETTO:+0100
TZNAME:CET
DTSTART:20201025T010000
END:STANDARD
BEGIN:DAYLIGHT
TZOFFSETFROM:+0100
TZOFFSETTO:+0200
TZNAME:CEST
DTSTART:20210328T010000
END:DAYLIGHT
BEGIN:STANDARD
TZOFFSETFROM:+0200
TZOFFSETTO:+0100
TZNAME:CET
DTSTART:20211031T010000
END:STANDARD
BEGIN:DAYLIGHT
TZOFFSETFROM:+0100
TZOFFSETTO:+0200
TZNAME:CEST
DTSTART:20220327T010000
END:DAYLIGHT
BEGIN:STANDARD
TZOFFSETFROM:+0200
TZOFFSETTO:+0100
TZNAME:CET
DTSTART:20221030T010000
END:STANDARD
END:VTIMEZONE
BEGIN:VEVENT
DTSTART;TZID=Europe/Zurich:20211105T093000
DTEND;TZID=Europe/Zurich:20211105T113000
DTSTAMP:20260425T184857
CREATED:20210719T062621Z
LAST-MODIFIED:20210719T062714Z
UID:6755-1636104600-1636111800@www.ursheld.ch
SUMMARY:Selbstheilung - erfahre Heilung in dir
DESCRIPTION:* Freitag\,   05.11.2021     09.30 – 11.30 Uhr \nSelbstheilung – erfahre Heilung in dir\n* Du willst etwas für dich\, deine Heilung und deine Gesundheit tun?\n* Du willst dich persönlich weiter entwickeln und dich aus der Tiefe des Seins entfalten? \n* Dieser Vormittag ist offen für alle\, die aus der Tiefe Heilung suchen und sich selber aus dem Urgrund des Seins entwickeln und entfalten wollen. Er kann auch als Vorbereitung für die Ausbildung dienen. \n! Dieser Vormittag ist einzeln buchbar ! \n 
URL:https://www.ursheld.ch/ursheld/event/selbstheilung-erfahre-heilung-in-dir-2/
LOCATION:kukumbrian – school of inner light\, Urs Held\, Platz 220 in 9428 Walzenhausen\, Appenzell Ausserrhoden (AR)\, Switzerland
ATTACH;FMTTYPE=image/jpeg:https://www.ursheld.ch/ursheld/wp-content/uploads/2020/03/Kukumbrian.jpg
END:VEVENT
END:VCALENDAR