BEGIN:VCALENDAR
VERSION:2.0
PRODID:-//Urs Held - ECPv6.15.20//NONSGML v1.0//EN
CALSCALE:GREGORIAN
METHOD:PUBLISH
X-WR-CALNAME:Urs Held
X-ORIGINAL-URL:https://www.ursheld.ch/ursheld
X-WR-CALDESC:Veranstaltungen für Urs Held
REFRESH-INTERVAL;VALUE=DURATION:PT1H
X-Robots-Tag:noindex
X-PUBLISHED-TTL:PT1H
BEGIN:VTIMEZONE
TZID:Europe/Zurich
BEGIN:DAYLIGHT
TZOFFSETFROM:+0100
TZOFFSETTO:+0200
TZNAME:CEST
DTSTART:20210328T010000
END:DAYLIGHT
BEGIN:STANDARD
TZOFFSETFROM:+0200
TZOFFSETTO:+0100
TZNAME:CET
DTSTART:20211031T010000
END:STANDARD
BEGIN:DAYLIGHT
TZOFFSETFROM:+0100
TZOFFSETTO:+0200
TZNAME:CEST
DTSTART:20220327T010000
END:DAYLIGHT
BEGIN:STANDARD
TZOFFSETFROM:+0200
TZOFFSETTO:+0100
TZNAME:CET
DTSTART:20221030T010000
END:STANDARD
BEGIN:DAYLIGHT
TZOFFSETFROM:+0100
TZOFFSETTO:+0200
TZNAME:CEST
DTSTART:20230326T010000
END:DAYLIGHT
BEGIN:STANDARD
TZOFFSETFROM:+0200
TZOFFSETTO:+0100
TZNAME:CET
DTSTART:20231029T010000
END:STANDARD
END:VTIMEZONE
BEGIN:VEVENT
DTSTART;TZID=Europe/Zurich:20220903T080000
DTEND;TZID=Europe/Zurich:20220903T170000
DTSTAMP:20260425T032305
CREATED:20220831T102655Z
LAST-MODIFIED:20220907T075831Z
UID:7051-1662192000-1662224400@www.ursheld.ch
SUMMARY:Heilertag: erkennen - erfahren - anwenden
DESCRIPTION:> Urs Held leitet diese regelmässig stattfindenden Tage an. Es werden für alle die Personen\, die an den Heiler-Ausbildungs-Wochenenden teilgenommen haben keine Seminargebühren erhoben. Ganz im Sinne „wir sind füreinander da“.\n \n> Die Gebühr für die Benutzung und Bereitstellung der Infrastruktur beträgt Sfr. 35.- pro Person. Diese Beiträge werden an eine uns bestens bekannte indische Schule für die Ärmsten der Armen  gespendet. Wir haben dazu sehr gute und direkte Kontakte. Der volle Betrag kommt den Kindern zugute. Als Info: 50 Euro reichen um einem Kind ein Jahr lang die Schule zu ermöglichen!\n \n> Wenn Ihr Jemanden kennt\, der als Klient im Sinne der Selbstheilung an diesen Tagen teilnehmen möchte\, dann gerne. Tagungsbeitrag Sfr. 125.-. Dieser Betrag wird auch voll gespendet.\n  \n> Wenn Ihr Jemanden kennt\, der bereits als Heilerin oder Heiler unterwegs ist und sich gerne mit seinen Fähigkeiten in die Gruppe einbringen mag\, ist diese Person herzlich willkommen. Der Tagungsbeitrag beträgt dann Sfr. 65.- und wird auch voll gespendet.\n  \n\n\n\n\n\n\n> Inhalte:  \n* Jeder bringt sich mit seinem Potenzial voll ein. Da wo er gerade steht. Aktuelle Themen kriegen Raum und Heilung.\n* Wir werden neben Gruppenhealings\, Zweierbehandlungen auch systemische Aufstellungsarbeit über die Bewegung der Seele und des Geistes machen. Diese wird von Manuela\, Philipp oder mir angeleitet.\n* Wer lieber Heilsessions macht\, kann das zeitgleich tun. Wir haben genügend Räume.\n  \n\n\n> Wenn jemand hier übernachten will\, weil er am Vorabend anreist oder noch den Sonntag hier verbringen möchte\, kann das auch gerne tun. Einfach ca. eine Woche vorher melden! Der Übernachtungspreis ist Sfr. 35.- für ein EZ und Sfr. 30.- pro Person für ein DZ. Die Reinigung habt ihr dann bitte selber zu erledigen. Danke.\n  \n\n* Gerne bitte ich um eine Anmeldung für die Anlässe bis Sonntag abend vor dem Terminen. Danke!\n  \n\n\n\nLichtvolle Grüsse von Herz zu Herz\n\nUrs
URL:https://www.ursheld.ch/ursheld/event/heilen-erkennen-erfahren-anwenden/
LOCATION:kukumbrian – school of inner light\, Urs Held\, Platz 220 in 9428 Walzenhausen\, Appenzell Ausserrhoden (AR)\, Switzerland
CATEGORIES:Heilkreis und Bewusstsein
ATTACH;FMTTYPE=image/jpeg:https://www.ursheld.ch/ursheld/wp-content/uploads/2018/01/2017-11-14-10.28.30-1.jpg
ORGANIZER;CN="Urs Held":MAILTO:urs@ursheld.ch
END:VEVENT
BEGIN:VEVENT
DTSTART;TZID=Europe/Zurich:20220903T100000
DTEND;TZID=Europe/Zurich:20220903T170000
DTSTAMP:20260425T032305
CREATED:20211206T104909Z
LAST-MODIFIED:20220907T075742Z
UID:6825-1662199200-1662224400@www.ursheld.ch
SUMMARY:Heilertag: erkennen – erfahren – anwenden
DESCRIPTION:> Urs Held leitet diese regelmässig stattfindenden Tage an. Es werden für alle die Personen\, die an den Heiler-Ausbildungs-Wochenenden teilgenommen haben keine Seminargebühren erhoben. Ganz im Sinne „wir sind füreinander da“.\n \n> Die Gebühr für die Benutzung und Bereitstellung der Infrastruktur beträgt Sfr. 35.- pro Person. Diese Beiträge werden an eine uns bestens bekannte indische Schule für die Ärmsten der Armen  gespendet. Wir haben dazu sehr gute und direkte Kontakte. Der volle Betrag kommt den Kindern zugute. Als Info: 50 Euro reichen um einem Kind ein Jahr lang die Schule zu ermöglichen!\n \n> Wenn Ihr Jemanden kennt\, der als Klient im Sinne der Selbstheilung an diesen Tagen teilnehmen möchte\, dann gerne. Tagungsbeitrag Sfr. 125.-. Dieser Betrag wird auch voll gespendet.\n  \n> Wenn Ihr Jemanden kennt\, der bereits als Heilerin oder Heiler unterwegs ist und sich gerne mit seinen Fähigkeiten in die Gruppe einbringen mag\, ist diese Person herzlich willkommen. Der Tagungsbeitrag beträgt dann Sfr. 65.- und wird auch voll gespendet.\n  \n\n\n\n\n\n\n> Inhalte:  \n* Jeder bringt sich mit seinem Potenzial voll ein. Da wo er gerade steht. Aktuelle Themen kriegen Raum und Heilung.\n* Wir werden neben Gruppenhealings\, Zweierbehandlungen auch systemische Aufstellungsarbeit über die Bewegung der Seele und des Geistes machen. Diese wird von Manuela\, Philipp oder mir angeleitet.\n* Wer lieber Heilsessions macht\, kann das zeitgleich tun. Wir haben genügend Räume.\n  \n\n\n> Wenn jemand hier übernachten will\, weil er am Vorabend anreist oder noch den Sonntag hier verbringen möchte\, kann das auch gerne tun. Einfach ca. eine Woche vorher melden! Der Übernachtungspreis ist Sfr. 35.- für ein EZ und Sfr. 30.- pro Person für ein DZ. Die Reinigung habt ihr dann bitte selber zu erledigen. Danke.\n  \n\n* Gerne bitte ich um eine Anmeldung für die Anlässe bis Sonntag abend vor dem Terminen. Danke!\n  \n\n\n\nLichtvolle Grüsse von Herz zu Herz\n\nUrs
URL:https://www.ursheld.ch/ursheld/event/heilertag-erkennen-erfahren-vertiefen-3/
LOCATION:kukumbrian – school of inner light\, Urs Held\, Platz 220 in 9428 Walzenhausen\, Appenzell Ausserrhoden (AR)\, Switzerland
CATEGORIES:Heilkreis und Bewusstsein
ATTACH;FMTTYPE=image/jpeg:https://www.ursheld.ch/ursheld/wp-content/uploads/2018/01/2017-11-14-10.28.30-1.jpg
ORGANIZER;CN="Urs Held":MAILTO:urs@ursheld.ch
END:VEVENT
BEGIN:VEVENT
DTSTART;TZID=Europe/Zurich:20220907T093000
DTEND;TZID=Europe/Zurich:20220908T163000
DTSTAMP:20260425T032305
CREATED:20200331T151235Z
LAST-MODIFIED:20230830T094332Z
UID:6080-1662543000-1662654600@www.ursheld.ch
SUMMARY:Kukumbrian - entfalte das Königreich in dir
DESCRIPTION:* \n„Im Inneren deines Seins sind alle Antworten. Tauche tief und erkenne wer du wirklich bist. Wenn dann das Innere zum Äusseren und das Äussere zum inneren wird\, durchflutet dich stille Freude\, tiefer Frieden und wahre Glückseligkeit“. \n* \n  \nSeminarinhalte:\nKUKUMBRIAN – dein inneres Königreich erkennen . erfahren . entfalten \n\nNomen est omen – was sind die Botschaften meines Vornames über den Klang und die Farben?\nLeichtigkeit und Freude – was macht mir Freude? was fällt mir leicht? was sind meine Potenziale?\nKreativität und Begeisterung – woher kommt meine Kreativität? was erfüllt mich mit Begeisterung?\nDie Sprachen der Natur – mit der Natur sprechen – schulen von Intuition & Achtsamkeit in der Natur\nLeben im Rhythmus der Natur – was will mir die Natur und der Kosmos zeigen? was tut mir gut?\nNeue Welten eröffnen sich – Aura sehen und wahrnehmen – schulen meiner Sensitivität\nDie Geheimnisse deines Herzens – willst du in deinem Leben fliegen können?\nDas grosse Herz – wer bin ich wirklich? was sind die Geheimnisse des Lebens?\nDas Feuer der Wahrheit – woher komme ich? wohin gehe ich?\nAufbruch in dein Neues – was will ich wirklich?\nSein – was ist der Sinn meines Lebens?\nNichts – der Ursprung von Allem\n\n*\nOrt:\nPlatz 221\, Haus zur Mitte und angrenzender Wald\,  CH-9428 Walzenhausen \n* \nTeilnahmegebühren:  \nKurskosten   Sfr. 420.- \ninkl. Pausenverpflegung und Raumkosten \n* \nAnmeldung:    \nurs@ursheld.ch     oder     +41  (0)79 753 53 05 \nUrs Held freut sich auf Deine Teilnahme und steht dir für weitere Fragen sehr gerne zur Verfügung. \n* \nAlle Infos zu Kukumbrian findest du unter \nwww.ursheld.ch/kukumbrian
URL:https://www.ursheld.ch/ursheld/event/kukumbrian-entdecke-das-koenigreich-in-dir/
LOCATION:kukumbrian – school of inner light\, Urs Held\, Platz 220 in 9428 Walzenhausen\, Appenzell Ausserrhoden (AR)\, Switzerland
CATEGORIES:Seminare
ATTACH;FMTTYPE=image/jpeg:https://www.ursheld.ch/ursheld/wp-content/uploads/2021/03/kukumbrian_schloss_1.jpg
END:VEVENT
BEGIN:VEVENT
DTSTART;TZID=Europe/Zurich:20220910T100000
DTEND;TZID=Europe/Zurich:20220910T170000
DTSTAMP:20260425T032305
CREATED:20220307T044800Z
LAST-MODIFIED:20220914T051259Z
UID:6928-1662804000-1662829200@www.ursheld.ch
SUMMARY:Heilertag: Stille . Heilen . Transzendenz
DESCRIPTION:> Urs Held leitet diese regelmässig stattfindenden Tage an. Es werden für alle die Personen\, die an den Heiler-Ausbildungs-Wochenenden teilgenommen haben keine Seminargebühren erhoben. Ganz im Sinne „wir sind füreinander da“.\n \n> Die Gebühr für die Benutzung und Bereitstellung der Infrastruktur beträgt Sfr. 35.- pro Person. Diese Beiträge werden an eine uns bestens bekannte indische Schule für die Ärmsten der Armen  gespendet. Wir haben dazu sehr gute und direkte Kontakte. Der volle Betrag kommt den Kindern zugute. Als Info: 50 Euro reichen um einem Kind ein Jahr lang die Schule zu ermöglichen!\n \n> Wenn Ihr Jemanden kennt\, der als Klient im Sinne der Selbstheilung an diesen Tagen teilnehmen möchte\, dann gerne. Tagungsbeitrag Sfr. 125.-. Dieser Betrag wird auch voll gespendet.\n  \n> Wenn Ihr Jemanden kennt\, der bereits als Heilerin oder Heiler unterwegs ist und sich gerne mit seinen Fähigkeiten in die Gruppe einbringen mag\, ist diese Person herzlich willkommen. Der Tagungsbeitrag beträgt dann Sfr. 65.- und wird auch voll gespendet.\n  \n\n\n\n\n\n\n> Inhalte:  \n* Jeder bringt sich mit seinem Potenzial voll ein. Da wo er gerade steht. Aktuelle Themen kriegen Raum und Heilung.\n* Wir werden neben Gruppenhealings\, Zweierbehandlungen auch systemische Aufstellungsarbeit über die Bewegung der Seele und des Geistes machen. Diese wird von Manuela\, Philipp oder mir angeleitet.\n* Wer lieber Heilsessions macht\, kann das zeitgleich tun. Wir haben genügend Räume.\n  \n\n\n> Wenn jemand hier übernachten will\, weil er am Vorabend anreist oder noch den Sonntag hier verbringen möchte\, kann das auch gerne tun. Einfach ca. eine Woche vorher melden! Der Übernachtungspreis ist Sfr. 35.- für ein EZ und Sfr. 30.- pro Person für ein DZ. Die Reinigung habt ihr dann bitte selber zu erledigen. Danke.\n  \n\n* Gerne bitte ich um eine Anmeldung für die Anlässe bis Sonntag abend vor dem Terminen. Danke!\n  \n\n\n\nLichtvolle Grüsse von Herz zu Herz\n\nUrs
URL:https://www.ursheld.ch/ursheld/event/heilertag-potenziale-vertieft-erkennen-erfahren-anwenden/
LOCATION:kukumbrian – school of inner light\, Urs Held\, Platz 220 in 9428 Walzenhausen\, Appenzell Ausserrhoden (AR)\, Switzerland
CATEGORIES:Heilkreis und Bewusstsein
ATTACH;FMTTYPE=image/jpeg:https://www.ursheld.ch/ursheld/wp-content/uploads/2018/01/2017-11-14-10.28.30-1.jpg
END:VEVENT
END:VCALENDAR