BEGIN:VCALENDAR
VERSION:2.0
PRODID:-//Urs Held - ECPv6.15.20//NONSGML v1.0//EN
CALSCALE:GREGORIAN
METHOD:PUBLISH
X-ORIGINAL-URL:https://www.ursheld.ch/ursheld
X-WR-CALDESC:Veranstaltungen für Urs Held
REFRESH-INTERVAL;VALUE=DURATION:PT1H
X-Robots-Tag:noindex
X-PUBLISHED-TTL:PT1H
BEGIN:VTIMEZONE
TZID:Europe/Zurich
BEGIN:DAYLIGHT
TZOFFSETFROM:+0100
TZOFFSETTO:+0200
TZNAME:CEST
DTSTART:20220327T010000
END:DAYLIGHT
BEGIN:STANDARD
TZOFFSETFROM:+0200
TZOFFSETTO:+0100
TZNAME:CET
DTSTART:20221030T010000
END:STANDARD
BEGIN:DAYLIGHT
TZOFFSETFROM:+0100
TZOFFSETTO:+0200
TZNAME:CEST
DTSTART:20230326T010000
END:DAYLIGHT
BEGIN:STANDARD
TZOFFSETFROM:+0200
TZOFFSETTO:+0100
TZNAME:CET
DTSTART:20231029T010000
END:STANDARD
BEGIN:DAYLIGHT
TZOFFSETFROM:+0100
TZOFFSETTO:+0200
TZNAME:CEST
DTSTART:20240331T010000
END:DAYLIGHT
BEGIN:STANDARD
TZOFFSETFROM:+0200
TZOFFSETTO:+0100
TZNAME:CET
DTSTART:20241027T010000
END:STANDARD
END:VTIMEZONE
BEGIN:VEVENT
DTSTART;TZID=Europe/Zurich:20230120T193000
DTEND;TZID=Europe/Zurich:20230120T204500
DTSTAMP:20260424T214503
CREATED:20221010T054803Z
LAST-MODIFIED:20221024T085317Z
UID:7154-1674243000-1674247500@www.ursheld.ch
SUMMARY:Stille . Selbstergründung  .  Frieden
DESCRIPTION:Abendveranstaltung\,   20.01.2023     19.00 – 20.15:   \n\nSpielen.\nNatürlich sein.\nLeicht und einfach.\nRückkehr zum Ursprung.\nWunschlos glücklich.\nNatürlich frei.\nAufwachen  \n  \nHier sein.\nOhne Geschichte.\nUnendlicher\, zeitloser Raum.\nOffen. Geschehen lassen. Voller Hingabe.\nNichts wollen. Nichts müssen.\nDa bleiben. Da sein.\nStille  \n  \nEintauchen in die Essenz.\nWandlung. Transzendenz.\nNeues. Immer wieder.\nIn reiner Präsenz.\nFrieden   \n  \nEin Raum\, in dem es nichts zu erreichen gibt.\nSich selbst erkennen\, erfahren\, entfalten.\nWach. Absichtslos. Versunken.\nFliessend. Mitreissend.\nVoller Freude.\nFreiheit \n  \nLeere – Weisheit – Sein\nFülle – Liebe – Sein\nGewahr – Sein\nEinheit   \n  \nSich dem Leben vollständig zur Verfügung stellen.\nHandeln ohne zu handeln. Schöpferisch.\nTräume und Visionen verkörpern.\nMit Freude wirksam sein.\nTun \n  \nVon Augenblick zu Augenblick leben.\nAus der Kraft des Gegenwärtigen.\nSchonungslos Dasein.\nExistenz feiern.\nLeben pur \n  \nLeitung:\nUrs in Stille\nAusgerichtet auf das Absolute.\nZeit und Raum zur Verfügung stellend.\nAls ErInnerer Deines wahren Wesens; Deiner Essenz.\nAls Begleiter hinein in DEIN Leben.\nIn Freude auf DICH \n  \nOrt:\nHaus zur Mitte\,   Platz 221\,  CH-9428 Walzenhausen \n  \nAnmeldung an Urs Held. \nurs@ursheld.ch                      +41  79 753 53 05\n  \n  \n 
URL:https://www.ursheld.ch/ursheld/event/stille-erfahre-heilung-in-dir/
LOCATION:kukumbrian – school of inner light\, Urs Held\, Platz 220 in 9428 Walzenhausen\, Appenzell Ausserrhoden (AR)\, Switzerland
CATEGORIES:Sat Sang
ATTACH;FMTTYPE=image/jpeg:https://www.ursheld.ch/ursheld/wp-content/uploads/2015/05/uhsus-landschaft-tiere-01.jpg
ORGANIZER;CN="Urs Held":MAILTO:urs@ursheld.ch
END:VEVENT
BEGIN:VEVENT
DTSTART;TZID=Europe/Zurich:20230121T093000
DTEND;TZID=Europe/Zurich:20230121T173000
DTSTAMP:20260424T214503
CREATED:20221010T054206Z
LAST-MODIFIED:20221024T083743Z
UID:7143-1674293400-1674322200@www.ursheld.ch
SUMMARY:Stille  .  Aufwachen  .  Freiheit
DESCRIPTION:* Hier geht es vor allem um die wahrhaftige Umkehr vom Aussen zum Innen. Anders ausgedrückt um die vertikale\, innere Bewegung in die Tiefe der Selbsterkenntnis\, des inneren Lichtes\, des reinen Gewahrseins.\n\n\n* Das Seminartag hat einen Retreatcharakter. Es werden Dir verschiedene spirituelle Wege wie Selbsterforschung (wie sie Ramana Maharshi empfohlen hat)\, die Bewusstseinsübung/Annäherung an den inneren Abgrund (stammt von Eli Jaxon-Bear)\, die Hingabe an das Absolute / Gott und Andere vermittelt. Unter Anleitung kannst Du selber herausfinden\, welcher Weg Dein spiritueller Weg zur inneren Freiheit und Selbst-Verwirklichung ist / sein kann. Beachte: Auf diesem inneren Weg kannst Du nichts dazu gewinnen. Im Gegenteil: Es geht darum alles gehen zu lassen. Einschliesslich Dir selber.\n\n\n* Wir werden auch Weisheiten aus der christlichen Mystik\, dem Tao und östlichen Weisheitslehren miteinbeziehen. Verschiedene Weltbilder werden aufgezeigt\, erforscht und diskutiert.\n\n\n\n* Wenn Du eine Resonanz hast\, kannst Du in diesem Tagen auch die Grundlagen der spirituellen Begleitung in die Tiefe (vertikale innere Bewegung) erfahren und anwenden lernen.  Du kannst das selber entscheiden.\n\n\n\n* Tagespreis Sfr. 180.-.\n\n\n* Kurszeiten:\n   Samstag  09.30 bis 17.30 Uhr;   Mittagspause ca. 12.00 bis 13.30\n\n\n* Kurslokal:\n   Begegnungsraum im EG des Hauses zur Mitte\, Platz 221 in 9428 Walzenhausen\n\n\n * Übernachtungen vor Ort:\n    In der Dachwohnung im Haus zur Mitte möglich. Einzelzimmer nur beschränkt verfügbar.\n    Einfach anfragen. Danke.\n\n\n* Anmeldungen / weitere Infos\n   Urs Held  /  urs@ursheld.ch  /  079 753 53 05
URL:https://www.ursheld.ch/ursheld/event/stille-aufwachen-spirituelle-begleitung/
LOCATION:kukumbrian – school of inner light\, Urs Held\, Platz 220 in 9428 Walzenhausen\, Appenzell Ausserrhoden (AR)\, Switzerland
CATEGORIES:Retreat,Seminare
ATTACH;FMTTYPE=image/jpeg:https://www.ursheld.ch/ursheld/wp-content/uploads/2018/01/2017-11-14-10.28.30-1.jpg
ORGANIZER;CN="Urs Held":MAILTO:urs@ursheld.ch
END:VEVENT
END:VCALENDAR