BEGIN:VCALENDAR
VERSION:2.0
PRODID:-//Urs Held - ECPv6.15.20//NONSGML v1.0//EN
CALSCALE:GREGORIAN
METHOD:PUBLISH
X-ORIGINAL-URL:https://www.ursheld.ch/ursheld
X-WR-CALDESC:Veranstaltungen für Urs Held
REFRESH-INTERVAL;VALUE=DURATION:PT1H
X-Robots-Tag:noindex
X-PUBLISHED-TTL:PT1H
BEGIN:VTIMEZONE
TZID:Europe/Zurich
BEGIN:DAYLIGHT
TZOFFSETFROM:+0100
TZOFFSETTO:+0200
TZNAME:CEST
DTSTART:20220327T010000
END:DAYLIGHT
BEGIN:STANDARD
TZOFFSETFROM:+0200
TZOFFSETTO:+0100
TZNAME:CET
DTSTART:20221030T010000
END:STANDARD
BEGIN:DAYLIGHT
TZOFFSETFROM:+0100
TZOFFSETTO:+0200
TZNAME:CEST
DTSTART:20230326T010000
END:DAYLIGHT
BEGIN:STANDARD
TZOFFSETFROM:+0200
TZOFFSETTO:+0100
TZNAME:CET
DTSTART:20231029T010000
END:STANDARD
BEGIN:DAYLIGHT
TZOFFSETFROM:+0100
TZOFFSETTO:+0200
TZNAME:CEST
DTSTART:20240331T010000
END:DAYLIGHT
BEGIN:STANDARD
TZOFFSETFROM:+0200
TZOFFSETTO:+0100
TZNAME:CET
DTSTART:20241027T010000
END:STANDARD
END:VTIMEZONE
BEGIN:VEVENT
DTSTART;TZID=Europe/Zurich:20230422T093000
DTEND;TZID=Europe/Zurich:20230423T173000
DTSTAMP:20260424T170640
CREATED:20230413T083512Z
LAST-MODIFIED:20230413T083912Z
UID:7265-1682155800-1682271000@www.ursheld.ch
SUMMARY:we feel\, therefore we are
DESCRIPTION:Wir fühlen\, also sind wir\nEin Wochenende der seelenvollen Erforschung \nMenschliche und spirituelle Themen in Einklang zu bringen kann sehr herausfordernd sein. Auf der Grundlage eurer Anliegen und Fragen werden Brie und Stace einen Herz-Raum bieten\, in dem erforscht werden kann\, dass und wie unser eigener innerer Lehrer unsere Seele ist\, aber der Zugang zu ihr in uns allen durch unbewusste Verletzungen und konditionierte Glaubenssätze blockiert ist. Solche Blockaden\, wir nennen sie auch Schutzmechanismen\, sind fast immer auf der tiefsten emotionalen Ebene angesiedelt\, nicht nur auf der Ebene der Energie oder des Verständnisses. \nWir haben jetzt eine Möglichkeit\, diese Konditionierungen emotional zu verarbeiten und emotiospirituell (avraprana.com) zu lösen\, um unser Wachstum im Menschlichen und im Spirituellen auf eine Weise direkt zu verbinden\, die bisher nicht möglich war. \nBegleite uns bei einer Einführung in Edenity (edenity.org)\, einem neuen emotospirituellen Paradigma\, und stelle deine eigenen Wachstumsziele auf eine neue Grundlage. \n\n\n\n\n  \nKursleitung:  Stace und Brie Barron aus den USA;    Englisch gesprochen mit Übersetzung ins Deutsch \n  \nKursgebühr:  Euro 300.-   > auch buchbar als Einzeltag für Euro 150.- \n  \n\n\n\n\nAnmeldung:    katrin.grimm@online.de +49 (0)178-3397776 \n\n\n\n\n  \n\n\n\n\nAnfragen für individuelle Einzelsitzungen bei Brie und State (60-90 min / Euro 150) in der Schweiz im Zeitraum vom 10. April bis 21. April bitte direkt bei brie.barron@aol.com
URL:https://www.ursheld.ch/ursheld/event/wir-fuehlen-also-sind-wir/
LOCATION:kukumbrian – school of inner light\, Urs Held\, Platz 220 in 9428 Walzenhausen\, Appenzell Ausserrhoden (AR)\, Switzerland
ATTACH;FMTTYPE=image/jpeg:https://www.ursheld.ch/ursheld/wp-content/uploads/2018/01/2017-11-14-10.28.30-1.jpg
END:VEVENT
BEGIN:VEVENT
DTSTART;TZID=Europe/Zurich:20230428T100000
DTEND;TZID=Europe/Zurich:20230430T150000
DTSTAMP:20260424T170640
CREATED:20221024T081601Z
LAST-MODIFIED:20221024T082516Z
UID:7179-1682676000-1682866800@www.ursheld.ch
SUMMARY:Heiler 6:  Heilen  .  Stille  .  Transzendenz
DESCRIPTION:Mit dem Heiler 6 kommt die zweite Ausbildungs-Trilogie zum Thema Heilen zum Abschluss.  \nDie Schwerpunkte des Heiler 4-6 sind \n„Heilen  .  Stille  .  Transzendenz“\n\n  \nWichtige Bemerkungen zur Methodik:\nUrs und Maik wissen aus eigener Erfahrung\, dass jeder Mensch einen inneren Lehrer in sich trägt. Dieser spricht immerzu zu den Menschen und leitet ihn an. Nur wenige Menschen nehmen sich die Zeit\, diesem Lehrer zuzuhören\, da der Lärm des Alltags übermächtig erscheint. \nMaik und Urs sehen es als eine Ihrer Aufgaben\, die TN zu innerer Stille und Transzendenz zu begleiten. Dahin\, wo der innere Lehrer gehört wird und wahre Heilung geschehen kann. \nUrs und Maik betrachten lernen als RückerInnern des bereits vorhandenen Wissens und sehen Heilung als pfadlosen\, offenen Weg. Aus diesem Grund werden hier bewusst keine Methoden vermittelt. Durch das geführte Einsinken nach Innen wirst du in der Tiefe zu deinen bereits in Dir angelegten Fähigkeiten und Potenzialen geführt. Dabei tauchen verschiedenste Heilmethoden von alleine auf. \nDurch das direkte Anwenden des Erkannten und Erfahrenen\, erhalten die TeilnehmerInnen Vertrauen in sich und die ureigenen Heilfähigkeiten. \nDieser gesamte Prozess wird offen\, achtsam und liebevoll von Urs und Maik begleitet. Alle TN erhalten immer wieder Heilung und Selbsterkenntnis in Gruppenhealings und Zweierarbeiten. \n\nIm Heiler 4 bis 6 geht es vor allem um\n\ndas absichtsloses Verweilen und Heilen aus der Präsenz des reinen Herzens \n\nHeilen ohne HeilerIn\nHeilen aus dem universellen Heilungsfeld\nHeilen im Bewusstsein kosmischer Liebe jenseits aller Bemühungen\nHeilen auf allen astralen und kausalen Ebenen\nÖffnung für die Möglichkeiten von Spontanheilungen\n\n\n\n\nVertieftes erkennen und anwenden\n\nder universell gültigen kosmischen Gesetze\ndes Wesens der Materie (Manifestation)\ndes wahren\, heilenden Schöpfungsprozesses\n\n\n\n\n\nWeisheiten aus Ost und West verinnerlichern\n \n\nEinführung in die heiligen Wissenschaften von Swami Sri Yukteswar\nEinsichten aus der christlichen Mystik\nEinsichten aus dem Tao\n\n\n\n\nSelbstergründung\n\nStille\nTranszendenz\nerkennen und erfahren des wahren Selbst\nverweilen im Absoluten (Sat-Chit-Ananda)\n\n\n\n\nspirituelles Begleiten von Menschen\n\ndurch alle Schichten des Seins\nan ihren wahren Ursprung und zurück ins Leben\n\n\n\n! Der direkten\, unmittelbaren Anwendung des Erkannten / ErInnerten wird hier wie gewohnt sehr viel Raum und Zeit gegeben. \nNatürlich wird auch das Erinnerte und Erfahrene aus der ersten Trilogie des Heilers 1-3 nicht zu kurz kommen: \n\nVertiefen der energetischen Ebenen aus dem\n\nHeiler 1 (Chakra\, Aura\, Lichtkörper)\nHeiler 2 (das Herz der Herzen\, die fünfte Herzkammer)\nHeiler 3 (Geistiges Auge\, alte Heilkulturen)\n\n\n\n! Heiler 1-3 ist nicht Voraussetzung für den Besuch der Seminarreihe Heiler 4-6. Quereinsteiger oder Menschen mit Heilererfahrung sind offenen Herzens willkommen.  Bei Fragen oder für ein kostenloses Eignungsgespräch einfach an Urs oder Maik wenden.\n  \nVeranstaltungsort: \n\nBegegnungsraum am Platz 221 in 9428 Walzenhausen\n\n  \nSeminargebühr Heiler 4: \n\nEuro 540.- (D/A) / Sfr. 540.-\n\n  \nVerpflegung:   \n\nDas Frühstück wird individuell eingenommen\nZum Mittagessen werden wir wie gewohnt von Maik kulinarisch verwöhnt. Beitrag auf Spendenbasis\nFür die Zubereitung eines Nachtessens steht in der Dachwohnung „Träume & Visionen“ eine moderne Küche zur Verfügung\n\n  \nzeitlicher Rahmen:  \n\nFreitag    28.04.2023:       10.00 – 13.00   &     14.30 – 18.00 Uhr\nSamstag  29.04.2023:      10.00 – 13.00   &     14.30 – 18.00 Uhr\nSonntag  30.04.2023:       09.00 – 12.30   &    14.00 – 15.15 Uhr\n\n  \nUnterkunft: \n\nIm Urvertrauen im Haus zur Stille\nIn der Dachwohnung „Träume & Visionen“  oder im atlantischen Heilzimmer im Haus zur Mitte\nIm gesamten können wir Platz für max. 10-12 Schlafplätze bieten\nEine definitive Einteilung der Zimmer erfolgt bis zum Veranstaltungsbeginn. \nZur Info: es sind bereits mehrere Schlafplätze vergeben.\n\n  \nPreise für die Übernachtung excl. Frühstück im \n\nEinzelzimmer  „Ost“  (Dusche/WC auf Etage)  Sfr. 50.- (nur wenn verfügbar)\nDoppelzimmer  „Nord-Ost“ (2 Einzelbetten\, Dusche/WC auf Etage)   Sfr. 35.-  p. Person; als Einzelzimmer Sfr. 50.- (nur wenn verfügbar)\nDoppelzimmer  „Süd“  (1 Doppelbett\, Dusche/WC auf Etage)   Sfr. 35.-  p. Person; als Einzelzimmer Sfr. 50.- (nur wenn verfügbar)\nDrei- bis Vierbettzimmer „Süd-West“  (Dusche/WC im Zimmer) Sfr. 30.-  p. Person\n\n  \nWeitere Informationen zum Übernachten: \n\nEs hat in Walzenhausen auch B&B’s in der Nähe des Seminarortes. Hier eine Liste:\n\nRestaurant Gambrinus (im Zentrum; 1800 m vom Seminarort):   https://www.pizzeria-gambrinus.ch/\nGästehaus Eisenhut (Ortsteil Lachen; 4000 m vom Seminarort):   https://www.gaestehaus-eisenhut.ch/\nKloster Grimmenstein (Quartiernsnahe; 300m vom Seminarort): https://www.kloster-grimmenstein.ch/angebote/gaestehaus\n\n\n\n\n\n\nAnmeldung:                   \n\nurs@ursheld.ch    /  0041 79 753 53 05\ninfo@praxis-maik-koekert.de        /   0049 160 7750784\n\n  \nAusbildungsleitung: \n\nUrs Held wirkt als Mentor & Lehrer\, spiritueller Begleiter & Heiler\nMaik Kökert wirkt als Heiler\, systemischer Therapeut\, Körpertherapeut und Coach\n\n  \nWir freuen uns auf Deine Teilnahme und stehen für weitere Fragen gerne zur Verfügung. \n\n 
URL:https://www.ursheld.ch/ursheld/event/heiler-6-heilen-stille-transzendenz/
LOCATION:Appenzell Ausserrhoden (AR)
ATTACH;FMTTYPE=image/jpeg:https://www.ursheld.ch/ursheld/wp-content/uploads/2020/03/Kukumbrian.jpg
END:VEVENT
END:VCALENDAR