BEGIN:VCALENDAR
VERSION:2.0
PRODID:-//Urs Held - ECPv6.15.20//NONSGML v1.0//EN
CALSCALE:GREGORIAN
METHOD:PUBLISH
X-ORIGINAL-URL:https://www.ursheld.ch/ursheld
X-WR-CALDESC:Veranstaltungen für Urs Held
REFRESH-INTERVAL;VALUE=DURATION:PT1H
X-Robots-Tag:noindex
X-PUBLISHED-TTL:PT1H
BEGIN:VTIMEZONE
TZID:Europe/Zurich
BEGIN:DAYLIGHT
TZOFFSETFROM:+0100
TZOFFSETTO:+0200
TZNAME:CEST
DTSTART:20220327T010000
END:DAYLIGHT
BEGIN:STANDARD
TZOFFSETFROM:+0200
TZOFFSETTO:+0100
TZNAME:CET
DTSTART:20221030T010000
END:STANDARD
BEGIN:DAYLIGHT
TZOFFSETFROM:+0100
TZOFFSETTO:+0200
TZNAME:CEST
DTSTART:20230326T010000
END:DAYLIGHT
BEGIN:STANDARD
TZOFFSETFROM:+0200
TZOFFSETTO:+0100
TZNAME:CET
DTSTART:20231029T010000
END:STANDARD
BEGIN:DAYLIGHT
TZOFFSETFROM:+0100
TZOFFSETTO:+0200
TZNAME:CEST
DTSTART:20240331T010000
END:DAYLIGHT
BEGIN:STANDARD
TZOFFSETFROM:+0200
TZOFFSETTO:+0100
TZNAME:CET
DTSTART:20241027T010000
END:STANDARD
END:VTIMEZONE
BEGIN:VEVENT
DTSTART;TZID=Europe/Zurich:20230714T180000
DTEND;TZID=Europe/Zurich:20230716T170000
DTSTAMP:20260424T121511
CREATED:20230509T082533Z
LAST-MODIFIED:20230701T131513Z
UID:7302-1689357600-1689526800@www.ursheld.ch
SUMMARY:Heilen . spirituelle Begleitung . Erwachen
DESCRIPTION:im stillen Haus in 38828 Adersleben (D)\n\n\n  \n\n\n\nHeilen & spirituelle Begleitung:\n\n* Beispiele aus Deinem Alltag werden erörtert und besprochen. Du erhälst feedbacks zu deinem Wirken\n \n* Du bekommst Raum und Zeit\, um nochmals genau zu schauen und zu erkennen\, was dich abhält\, dein volles Potenzial in dieses Leben zu bringen und deine Einzigartigkeit der Welt zur Verfügung zu stellen \n* Wenn du magst\, kannst du dich in deiner individuellen Form der Gruppe ganz zeigen und sie heilend anleiten oder begleiten \n\n* das Vertiefen des bereits Erfahrenen\, RückerInnerten und angewendeten Heilerwissen aus Heiler 1 bis 6 geht weiter. Neue Erkenntnisse können dazu kommen\n \n! Auf dass die Knospe in deinem Herzen erblühen kann \n\n\n\n  \n\n\nspirituelles Erwachen:\n* natürliche Achtsamkeit \n* Potenzialentfaltung in der heilenden Präsenz der Stille \n* Verweilen im Herz der Herzen (SAT CHIT ANANDA) \n* Selbsterforschung auf allen Ebenen des Seins (WER BIN ICH wirklich?) \n* spirituelle Begleitung\, was bedeutet das für dich? \n! Sei was du wirklich bist \n\n\n  \n\n\nLeben in Freiheit:\n\n\n* Wie lebt es sich im Alltag\, wenn Du ganz zurücktrittst? \n* Wie kannst du das Licht das du bist\, in den Alltag integrieren \n* Wir sind hier auf Erden um Freude und Liebe zu erfahren \n* WU-WEI – die Meisterin / der Meister\, tut nichts und dennoch bleibt nichts ungetan \n* pures LEBEN im täglichen SEIN \n! Das Leben liebt Dich \n\n  \nVeranstaltungsort: \n\n\nStilles Haus\,  Dorfstrasse 23\,  38828 Adersleben\n\n  \nSeminargebühr: \n\nEuro 330.-  für gesamtes Seminar\nEuro 300.- für zwei Tage\nEuro 150.- pro Tag\nEuro 30.- für den Freitag Abend\nErmässigung auf Anfrage\n\n  \nVerpflegung:   \n\nPausenverpflegung vorhanden und unter dem Motto „jeder\, der mag\, bringt etwas mit“\nZum Mittagessen werden wir wie gewohnt von Maik kulinarisch verwöhnt. Beitrag auf Spendenbasis\n\n  \nzeitlicher Rahmen:  \n\nFreitag    14.07.2023:       18 – 20.00 Uhr\nSamstag  15.07.2023:      10.00 – 13.00   &     14.30 – 18.00 Uhr\nSonntag  16.07.2023:       09.00 – 12.00   &    14.30 – 15.30 Uhr\n\n  \n\nAnmeldung:                   \n\nurs@ursheld.ch    /  0041 79 753 53 05\ninfo@praxis-maik-koekert.de        /   0049 160 7750784\n\n  \nSupervisionsleitung: \n\nUrs Held wirkt als Mentor\, spiritueller Begleiter & Lehrer\nMaik Kökert wirkt als Heiler\, systemischer Therapeut\, Körpertherapeut und Coach\n\n  \n! Wir freuen uns auf Deine Teilnahme und stehen für weitere Fragen gerne zur Verfügung \n\n 
URL:https://www.ursheld.ch/ursheld/event/supervision-heilen-stille-leben-in-adersleben/
LOCATION:Stilles Haus\, Dorfstrasse 23\, 38828 Adersleben\, Dorfstrasse 23\, Adersleben\, 38828\, Deutschland
ATTACH;FMTTYPE=image/jpeg:https://www.ursheld.ch/ursheld/wp-content/uploads/2015/08/klangschale_aus_ladakh.jpg
END:VEVENT
END:VCALENDAR