BEGIN:VCALENDAR
VERSION:2.0
PRODID:-//Urs Held - ECPv6.15.20//NONSGML v1.0//EN
CALSCALE:GREGORIAN
METHOD:PUBLISH
X-WR-CALNAME:Urs Held
X-ORIGINAL-URL:https://www.ursheld.ch/ursheld
X-WR-CALDESC:Veranstaltungen für Urs Held
REFRESH-INTERVAL;VALUE=DURATION:PT1H
X-Robots-Tag:noindex
X-PUBLISHED-TTL:PT1H
BEGIN:VTIMEZONE
TZID:Europe/Zurich
BEGIN:DAYLIGHT
TZOFFSETFROM:+0100
TZOFFSETTO:+0200
TZNAME:CEST
DTSTART:20220327T010000
END:DAYLIGHT
BEGIN:STANDARD
TZOFFSETFROM:+0200
TZOFFSETTO:+0100
TZNAME:CET
DTSTART:20221030T010000
END:STANDARD
BEGIN:DAYLIGHT
TZOFFSETFROM:+0100
TZOFFSETTO:+0200
TZNAME:CEST
DTSTART:20230326T010000
END:DAYLIGHT
BEGIN:STANDARD
TZOFFSETFROM:+0200
TZOFFSETTO:+0100
TZNAME:CET
DTSTART:20231029T010000
END:STANDARD
BEGIN:DAYLIGHT
TZOFFSETFROM:+0100
TZOFFSETTO:+0200
TZNAME:CEST
DTSTART:20240331T010000
END:DAYLIGHT
BEGIN:STANDARD
TZOFFSETFROM:+0200
TZOFFSETTO:+0100
TZNAME:CET
DTSTART:20241027T010000
END:STANDARD
END:VTIMEZONE
BEGIN:VEVENT
DTSTART;TZID=Europe/Zurich:20231102T100000
DTEND;TZID=Europe/Zurich:20231105T163000
DTSTAMP:20260424T063457
CREATED:20230918T133827Z
LAST-MODIFIED:20231122T083003Z
UID:7702-1698919200-1699201800@www.ursheld.ch
SUMMARY:4-Tages-Retreat - "Stille . das innere Königreich . Leben"
DESCRIPTION:„Im Inneren deines Seins sind alle Antworten. Tauche tief und erkenne wer du wirklich bist. Tauche wieder auf und wenn dann das Innere zum Äusseren und das Äussere zum Inneren wird\, durchflutet dich stille Freude\, tiefer Frieden und wahre Glückseligkeit“. \nDieses 4-Tages-Rereat „Stille – das innere Königreich – Leben“ ist für alle Menschen geeignet\,\n\ndie den Wunsch nach innerer Stille\, Wahrheit und einem erfülltem Leben in Liebe in sich tragen\n\nwo findest du tiefe Stille und was macht innere Stille mit dir?\nwo erhälst du Einsichten in den Urgrund des Lebens (Wahrheit) und was bedeutet spirituelles Erwachen?\nwas brauchst du für ein erfülltes Leben in Freiheit?\n\n\ndie ihr wahres Wesen erkennen wollen\n \n\nreines pures Gewahrsein (Sat)\n\nwahre Intelligenz – Weisheit (Chit)\nGlückseligkeit – Liebe (Ananda)\n\n\ndie den Sinn ihres Lebens suchen und eine echte Umkehr nach Innen vollziehen wollen\n \n\nwer bin ich?\n\nwas bin ich?\nwarum bin ich?\n\n\ndie mehr über die Ursprünge ihrer spirituellen Seelenreise erfahren wollen\n\nwoher komme ich? (Ursprungs-Seelenfamilie)\nwohin gehe ich? (nach dem körperlichen Tod)\nwas will meine Seele hier auf Erden?\n\n\ndie integrale (Selbst-) Heilung auf allen Ebenen finden wollen\n\nHeilung im Emotionalkörper als Grundlage für ein Leben in Frieden\, Freiheit und Glückseligkeit (Leben aus dem authentischen Selbst)\nHeilung in allen anderen Körpern der Kausalitätskette in Raum\, Form und Zeit (Leben aus dem Urgrund des Seins)\ndas oberste Ziel des Herzens ist es\, Leid zu überwinden; wie geht das? geht das überhaupt?\n\n\ndie ihr Leben in neue Bahnen lenken wollen\n\nwie sieht mein wahrer Herzensweg aus?\nwas sind meine inneren Potenziale?\nwie sehen spirituelle Weltbilder aus?\nwas ist mein JA! zum Leben?\ngelebtes Wu-Wei\n\n\n\n  \n\nWeitere Informationen\n\nDas Leben verläuft für die meisten Menschen in einer horizontalen Bewegung „von A nach B“. Dieses persönliche Erleben findet in Raum und Zeit statt und ist der Kausalität unterworfen. Innerhalb dessen was Dich wirklich ausmacht\, gibt es auch eine vertikale Bewegung in dir.  Diese Bewegung führt dich in die Tiefe deines inneren Königreiches; zu deinem wahren Ursprung. Um diese innere vertikale Bewegung geht es verstärkt an diesem Anlass.\nDu wirst bewusst auf unterschiedliche Weise und mit verschiedenen Wegen angeleitet. Diese angebotenen Wege schliessen sich gegenseitig nicht aus. Sie sind als Angebot gedacht\, individuell für sich\, den oder die fühlbar stimmigen Wege zu finden und zu beschreiten.\nDa dieser Anlass auch im Sinne von „Weg(e) – Wahrheit – Leben“ aufgebaut ist\, führt er dich nicht nur in die zeit- und raumlose Tiefe des Seins\, sondern auch zurück in dein bewusstes Leben in Raum und Zeit.\n\n\n\n  \nWeitere Hinweise – Organisatorisches:\nSeminarort: \n\nHaus zur Mitte\,   Platz 221\,  CH-9428 Walzenhausen\n\n  \nGruppengrösse: \n\nmax. 12 TeilnehmerInnen\n\n\n  \nSeminargebühr: \n\nRetreatgebühr:   Sfr. / Euro 550.-\n\n  \nSeminarzeiten: \n\nMittwoch bis Freitag:\n\n10.00 – 13.00 Uhr\nMittagspause 13.00 – 15.00 Uhr\n15.00 – 18.00 Uhr\nkleinere Pausen individuell\n\n\n\n\n Samstag:\n\n10.00 – 13.00 Uhr\nMittagspause 13.00 – 14.30 Uhr\n14.30 – 16.30\nkleinere Pausen individuell\n\n\n\n\nSpecial Donnerstag bis Samstag:\n\nYOGA mit Anna Held\n08.00 – 09.00\n\n\n\n  \nVerpflegung:   \n\nDie Mahlzeiten werden individuell oder je nach Belieben in der Gruppe eingenommen\nFür deren Zubereitung steht in der Dachwohnung „Träume & Visionen“ eine moderne Küche zur Verfügung\nFür Pausenverpflegung ist gesorgt und ist im Preis inbegriffen\n\n  \nMögliche Unterkunft direkt vor Ort: \n\nIn der Dachwohnung „Träume & Visionen“  oder im atlantischen Heilzimmer im Haus zur Mitte\nIm gesamten können wir Platz für max. 8-10 Schlafplätze bieten\nEine definitive Einteilung der Zimmer erfolgt bis zum Veranstaltungsbeginn\nPreise für die Übernachtung im\n\nDoppelzimmer  „Ost“  (2 Einzelbetten\, Dusche/WC auf Etage)  Sfr. 45.-  p. Person; als EZ Sfr. 60.- (nur wenn verfügbar)\nDoppelzimmer  „Nord-Ost“ (2 Einzelbetten\, Dusche/WC auf Etage)   Sfr. 45.-  p. Person; als EZ Sfr. 60.- (nur wenn verfügbar)\nEinzelzimmer  „Süd“  (Bettsofa\, Dusche/WC auf Etage)   Sfr. 60.-\nDreibettzimmer „Süd-West“  (1 Einzelbett\, 1 Doppelbett\, Dusche/WC im Zimmer) Sfr. 40.-  p. Person (als DZ Sfr. 55.- pro Person\, als EZ Sfr. 80.-)\natlantisches Heilzimmer (2 Einzelbetten\, Dusche/WC direkt neben dem Zimmer) Sfr. 45.- pro Person im DZ (als EZ Sfr. 70.-\, nur wenn verfügbar)\n\n\n\n  \nWeitere Informationen zum Übernachten: \n\nEs hat in Walzenhausen auch andere Unterkünfte in der Nähe des Seminarortes. Hier eine Liste:\n\nRestaurant Gambrinus (im Zentrum; 1800 m vom Seminarort):   https://www.pizzeria-gambrinus.ch/\nGästehaus Eisenhut (Ortsteil Lachen; 4000 m vom Seminarort):   https://www.gaestehaus-eisenhut.ch/\nKloster Grimmenstein (Quartiernsnahe; 300m vom Seminarort): https://www.kloster-grimmenstein.ch/angebote/gaestehaus\n\n\n\n  \nSeminarleitung: \n\nUrs Held;  Mystiker & Heiler\, spiritueller Begleiter & Lehrer\n\nin Liebe\, Weisheit und Stille\nausgerichtet aus dem Absoluten auf dich und deine Individualität\nals ErInnerer Deines wahren Wesens; Deiner Essenz\nals Begleiter hinein in DEIN Leben\nIn Freude auf DICH\n\n\n\n  \nAnmeldung oder Fragen:\n\nUrs Held\n\n+41  (0)79 753 53 05\nurs@ursheld.ch\n\n\n\n  \n\nSofern Plätze frei sind\, kann man auch nur Teile des Retreats besuchen\n\nHalbtagespauschale:            Sfr. / Euro 140.-\nTagespauschale                     Sfr. / Euro 220.-\neinfach anfragen ob Plätze frei sind\n\n\n\n\n  \n  \n  \n \n\n  \n 
URL:https://www.ursheld.ch/ursheld/event/4-tages-retreat-stille-das-innere-koenigreich-leben/
LOCATION:kukumbrian – school of inner light\, Urs Held\, Platz 220 in 9428 Walzenhausen\, Appenzell Ausserrhoden (AR)\, Switzerland
ATTACH;FMTTYPE=image/png:https://www.ursheld.ch/ursheld/wp-content/uploads/2023/05/Kukumbrian_Hauptklang-Kopie-e1683623809620.png
END:VEVENT
END:VCALENDAR