BEGIN:VCALENDAR
VERSION:2.0
PRODID:-//Urs Held - ECPv6.15.20//NONSGML v1.0//EN
CALSCALE:GREGORIAN
METHOD:PUBLISH
X-WR-CALNAME:Urs Held
X-ORIGINAL-URL:https://www.ursheld.ch/ursheld
X-WR-CALDESC:Veranstaltungen für Urs Held
REFRESH-INTERVAL;VALUE=DURATION:PT1H
X-Robots-Tag:noindex
X-PUBLISHED-TTL:PT1H
BEGIN:VTIMEZONE
TZID:Europe/Zurich
BEGIN:DAYLIGHT
TZOFFSETFROM:+0100
TZOFFSETTO:+0200
TZNAME:CEST
DTSTART:20230326T010000
END:DAYLIGHT
BEGIN:STANDARD
TZOFFSETFROM:+0200
TZOFFSETTO:+0100
TZNAME:CET
DTSTART:20231029T010000
END:STANDARD
BEGIN:DAYLIGHT
TZOFFSETFROM:+0100
TZOFFSETTO:+0200
TZNAME:CEST
DTSTART:20240331T010000
END:DAYLIGHT
BEGIN:STANDARD
TZOFFSETFROM:+0200
TZOFFSETTO:+0100
TZNAME:CET
DTSTART:20241027T010000
END:STANDARD
BEGIN:DAYLIGHT
TZOFFSETFROM:+0100
TZOFFSETTO:+0200
TZNAME:CEST
DTSTART:20250330T010000
END:DAYLIGHT
BEGIN:STANDARD
TZOFFSETFROM:+0200
TZOFFSETTO:+0100
TZNAME:CET
DTSTART:20251026T010000
END:STANDARD
END:VTIMEZONE
BEGIN:VEVENT
DTSTART;TZID=Europe/Zurich:20240531T190000
DTEND;TZID=Europe/Zurich:20240602T180000
DTSTAMP:20260423T202634
CREATED:20240222T070759Z
LAST-MODIFIED:20240308T074308Z
UID:7881-1717182000-1717351200@www.ursheld.ch
SUMMARY:Edenity - Embodiment of who\, what and why we are
DESCRIPTION:Freitag 31. Mai von 19.00 bis 21.00 \nWir fühlen\, also sind wir \nEin lebendiger Einführungsabend zu Edenity mit Stace & Brie \n  \nSamstag 1. Juni von 09.30 bis 18.00 \nDie Tragödie der traditionellen nondualen Erleuchtung  \n* Das persönliche Ich ist keine Illusion\, nur weil es nicht erfahrbar ist \n* Die verlorenen ursprünglichen Lehren des Buddha über Erleuchtung \n* Wie die Bewegung des Buddhismus in den Fernen Osten seine Lehren verzerrte \n* Edenitys Weg zur gefühlsbasierten Erleuchtung: Prädual vs. Transdual \n* Einführung in die Avrassana-Meditation von Edenity \n  \nSonntag 2. Juni von 09.30 bis 18.00 \nSeelen-Selbst-Begegnungen \n* Folgefragen und Verdauungshilfen zum Vortag \n* Persönliche Fragen über das menschliche Leben und seine Verbindung zur Spiritualität \n* Seelenlesungen über dieses Leben oder wie frühere Leben dieses Leben beeinflussen \n* Medizinisches intuitives Scannen und Heilen \n  \nSeminarkosten:\n \n* ganzes Seminar:  Sfr.  325.- \n* Freitag Abend:     Sfr.   25.- \n* Samstag:  Sfr. 150.- \n* Sonntag:  Sfr. 150.- \n  \nWeitere Informationen: \n* Das gesamte Seminar findet in englischer Sprache mit Übersetzung ins Deutsche statt. \n* Maximal 20 Personen \n  \nAnmeldung: \n* Bitte melde dich aufgrund der Teilnehmerbeschränkung im Voraus an. \n* Nicolle Puts-Warnecke: nicowa64@gmx.de  +49 172 6151820 \n  \nMehr Informationen über Edenity:  edenity.org \n  \n  \n  \n  \n 
URL:https://www.ursheld.ch/ursheld/event/informationsveranstaltung-zu-emotional-body-enlightment/
LOCATION:kukumbrian – school of inner light\, Urs Held\, Platz 220 in 9428 Walzenhausen\, Appenzell Ausserrhoden (AR)\, Switzerland
ATTACH;FMTTYPE=image/png:https://www.ursheld.ch/ursheld/wp-content/uploads/2024/02/Crying-Buddha-@-2008-Brie-Ehret-Barron.png
END:VEVENT
BEGIN:VEVENT
DTSTART;TZID=Europe/Zurich:20240607T100000
DTEND;TZID=Europe/Zurich:20240609T170000
DTSTAMP:20260423T202634
CREATED:20240225T084926Z
LAST-MODIFIED:20240225T084926Z
UID:8003-1717754400-1717952400@www.ursheld.ch
SUMMARY:Heiler 3 in Adersleben (D) - Heiler 3 - das Auge des Wissens
DESCRIPTION:Der Heiler 3 ist die Fortsetzungt einer sechsteiligen Ausbildungsreihe\nin dem es unter anderem um Folgendes geht:\n \n\nSelbstheilung – erfahre Heilung in Dir – jede Heilung ist eine Selbstheilung\nDas Rück-er-Innern und Reaktivierung deiner Heilerfähigkeiten aus der Weisheit deines Herzens\nDie Entdeckung und Befreiung deines in dir liegenden individuellen Potenzials fern aller Methoden\nDas lösen deiner individuellen Blockaden und Verstrickungen\, die dich davon abhalten in deiner wahren Grösse in der Welt zu wirken\nDie vollständige Öffnung deines Herzens und deines dritten Auges\nDas tiefe Erkennen deines wahren Wesens\n\n  \nAuf natürliche Weise werden folgende Themen schwerpunktmässig in die Ausbildungsmodule miteinbezogen: \n\nbeim Heiler 1 sind das die Chakren\, Energiekörper (Aura)\, Lichtkörper\nbeim Heiler 2 sind das die vielfältigen Themen rund ums wirken aus dem Herz der Herzen (fünfte Herzkammer)\nbeim Heiler 3 sind das die vielfältigen Themen rund ums dritte Auge\nbeim Heiler 4 sind das mit Schwergewicht die innere vertikale Bewegung\, die Stille und Transzendenz\nbeim Heiler 5 das immer tiefere erkennen deiner Selbst (Sat-Chit-Ananda)\nbeim Heiler 6 das verweilen im Selbst und Erfahren von Weisheiten aus Ost und West\n\n  \nMit folgenden Fragen kannst Du überprüfen\, ob dieser Erinnerungsgang etwas für dich sein könnte: \n\nDu hast die Sehnsucht\, deine Heilkräfte und Heilpotenziale für dich und andere zu öffnen?\nDu willst dich persönlich weiter entwickeln und dich aus der Tiefe des Seins erfahren?\nDu arbeitest bereits als HeilerIn und möchtest dich weiter entwickeln und entfalten?\nDu suchst wahre Heilung die von Innen heraus geschieht?\n\n  \nWichtige Bemerkungen zur Methodik:\nUrs und Maik betrachten lernen als RückerInnern des bereits vorhandenen Wissens und sehen Heilung als pfadlosen\, offenen Weg. Aus diesem Grund werden hier bewusst keine Methoden vermittelt. Durch das geführte Einsinken nach Innen wirst du in der Tiefe zu deinen bereits in Dir angelegten Fähigkeiten und Potenzialen geführt. Dabei tauchen verschiedenste Heilmethoden von alleine auf. \nUrs und Maik wissen aus eigener Erfahrung\, dass jeder Mensch einen inneren Lehrer in sich trägt. Dieser spricht immerzu zu den Menschen und leitet ihn an. Nur wenige Menschen nehmen sich die Zeit\, diesem Lehrer zuzuhören\, da der Lärm des Alltags übermächtig erscheint. \nMaik und Urs sehen es als eine Ihrer Aufgaben\, die TN zu innerer Stille und Transzendenz zu begleiten. Dahin\, wo der innere Lehrer gehört wird und wahre Heilung geschehen kann. \nDurch das direkte Anwenden des Erkannten und Erfahrenen\, erhalten die TeilnehmerInnen Vertrauen in sich und die ureigenen Heilfähigkeiten. \nDieser gesamte Prozess wird offen\, achtsam und liebevoll von Urs und Maik begleitet. Alle TN erhalten immer wieder Heilung und Selbsterkenntnis in Gruppenhealings und Zweierarbeiten. \n\n  \n  \n\nWissenswertes:\nVeranstaltungsort: \n\nStilles Haus\, Dorfstrasse 23\, 38828 Adersleben\n\n  \nSeminarzeiten: \n\nFreitag:    10.00 – 18.00 Uhr\n\nMittagspause 13.00 – 14.30\nkleinere Pausen individuell\n\n\nSamstag:  10.00 – 18.00 Uhr\n\nMittagspause 13.00 – 14.30\nkleinere Pausen individuell\n\n\nSonntag:  10.00 – 17.00 Uhr\n\nMittagspause 13.00 – 14.30\nkleinere Pausen individuell\n\n\n\n  \nSeminargebühr: \n\nAusbildungswochenende:   Euro 450.-\n\n  \nAnmeldung:                  \n\ninfo@praxis-maik-koekert.de    /  0049 160 7750784\n\nurs@ursheld.ch    /  0041 797535305\n\n  \nAusbildungsleitung: \nUrs Held\, Mystiker\, wirkt als spiritueller Begleiter\, Heiler und Lehrer \nMaik Kökert wirkt als systemischer Therapeut\, Coach\, Körpertherapeut und Heiler
URL:https://www.ursheld.ch/ursheld/event/heiler-3-in-adersleben-d-heiler-3-das-auge-des-wissens/
LOCATION:Stilles Haus\, Dorfstrasse 23\, 38828 Adersleben\, Dorfstrasse 23\, Adersleben\, 38828\, Deutschland
CATEGORIES:Ausbildung
ATTACH;FMTTYPE=image/jpeg:https://www.ursheld.ch/ursheld/wp-content/uploads/2020/03/Kukumbrian.jpg
END:VEVENT
END:VCALENDAR