BEGIN:VCALENDAR
VERSION:2.0
PRODID:-//Urs Held - ECPv6.15.20//NONSGML v1.0//EN
CALSCALE:GREGORIAN
METHOD:PUBLISH
X-ORIGINAL-URL:https://www.ursheld.ch/ursheld
X-WR-CALDESC:Veranstaltungen für Urs Held
REFRESH-INTERVAL;VALUE=DURATION:PT1H
X-Robots-Tag:noindex
X-PUBLISHED-TTL:PT1H
BEGIN:VTIMEZONE
TZID:Europe/Zurich
BEGIN:DAYLIGHT
TZOFFSETFROM:+0100
TZOFFSETTO:+0200
TZNAME:CEST
DTSTART:20240331T010000
END:DAYLIGHT
BEGIN:STANDARD
TZOFFSETFROM:+0200
TZOFFSETTO:+0100
TZNAME:CET
DTSTART:20241027T010000
END:STANDARD
BEGIN:DAYLIGHT
TZOFFSETFROM:+0100
TZOFFSETTO:+0200
TZNAME:CEST
DTSTART:20250330T010000
END:DAYLIGHT
BEGIN:STANDARD
TZOFFSETFROM:+0200
TZOFFSETTO:+0100
TZNAME:CET
DTSTART:20251026T010000
END:STANDARD
BEGIN:DAYLIGHT
TZOFFSETFROM:+0100
TZOFFSETTO:+0200
TZNAME:CEST
DTSTART:20260329T010000
END:DAYLIGHT
BEGIN:STANDARD
TZOFFSETFROM:+0200
TZOFFSETTO:+0100
TZNAME:CET
DTSTART:20261025T010000
END:STANDARD
END:VTIMEZONE
BEGIN:VEVENT
DTSTART;TZID=Europe/Zurich:20250402T190000
DTEND;TZID=Europe/Zurich:20250402T201500
DTSTAMP:20260422T202026
CREATED:20250129T065551Z
LAST-MODIFIED:20250323T105621Z
UID:8327-1743620400-1743624900@www.ursheld.ch
SUMMARY:Zuhause im göttlichen Licht - erkenne dich selbst
DESCRIPTION:„Das wahre Wesen des Menschen ist Gewahr-Sein (Sat)\, Leere-Weisheit-wahres Bewusstsein (Chit) und bewusste Glückseligkeit-Liebe (Ananda)“ \n \n  \nAbendveranstaltung mit: \nangeleiteter Innenreise zur Selbsterforschung\, Selbsterfahrung und freiwilligem Austausch\n \n\nStille\n\ninnere Stille als Grundlage für ein heilsames Leben\n\n\nLicht\n\nalles ist Licht – Licht ist Energie und Information\nes gibt in der Schöpfung nichts anderes als Licht\nkosmisches Lichtbewusstsein als Grundlage für die Wunder des Lebens\n\n\nDu bist ewiges Gewahrsein (Sat)\n\nerkenne dich als unsterbliche Seele – du bist das ewige Leben\nbewusstes Handeln ohne Handelnde:n\n\n\nDu bist wahres Bewusstsein-Weisheit (Chit)\n\nwahres Bewusstsein hebt alles Leid auf – du erkennst dich als die Leere die du bist\ngöttliche Intelligenz jenseits des Gelernten bringt alle deine Potenziale zum Vorschein\nkosmisches Bewusstsein jenseits von Zeit und Raum erweckt das Christusbewusstsein in dir\n\n\nDu bist Liebe und Glückseligkeit (Ananda)\n\nLiebe ist deine wahre Essenz\newige Glückseligkeit ist deine wahre Natur\n\n\nFrieden\n\n innerer Frieden als Grundlage für ein friedvolles Leben\n\n\n\n  \nAnmeldung erwünscht :  079 753 53 05;  urs@ursheld.ch\n \n  \n„Wenn das Innere zum Äusseren und das Äussere zum Inneren wird\, dann ist tiefer Frieden“ Ramana Maharshi
URL:https://www.ursheld.ch/ursheld/event/zuhause-im-goettlichen-licht/
LOCATION:kukumbrian – school of inner light\, Urs Held\, Platz 220 in 9428 Walzenhausen\, Appenzell Ausserrhoden (AR)\, Switzerland
CATEGORIES:Meditation,Sat Sang
ATTACH;FMTTYPE=image/jpeg:https://www.ursheld.ch/ursheld/wp-content/uploads/2025/01/signet-urs-gold-e1739186242375.jpg
END:VEVENT
END:VCALENDAR