BEGIN:VCALENDAR
VERSION:2.0
PRODID:-//Urs Held - ECPv6.15.20//NONSGML v1.0//EN
CALSCALE:GREGORIAN
METHOD:PUBLISH
X-ORIGINAL-URL:https://www.ursheld.ch/ursheld
X-WR-CALDESC:Veranstaltungen für Urs Held
REFRESH-INTERVAL;VALUE=DURATION:PT1H
X-Robots-Tag:noindex
X-PUBLISHED-TTL:PT1H
BEGIN:VTIMEZONE
TZID:Europe/Zurich
BEGIN:DAYLIGHT
TZOFFSETFROM:+0100
TZOFFSETTO:+0200
TZNAME:CEST
DTSTART:20240331T010000
END:DAYLIGHT
BEGIN:STANDARD
TZOFFSETFROM:+0200
TZOFFSETTO:+0100
TZNAME:CET
DTSTART:20241027T010000
END:STANDARD
BEGIN:DAYLIGHT
TZOFFSETFROM:+0100
TZOFFSETTO:+0200
TZNAME:CEST
DTSTART:20250330T010000
END:DAYLIGHT
BEGIN:STANDARD
TZOFFSETFROM:+0200
TZOFFSETTO:+0100
TZNAME:CET
DTSTART:20251026T010000
END:STANDARD
BEGIN:DAYLIGHT
TZOFFSETFROM:+0100
TZOFFSETTO:+0200
TZNAME:CEST
DTSTART:20260329T010000
END:DAYLIGHT
BEGIN:STANDARD
TZOFFSETFROM:+0200
TZOFFSETTO:+0100
TZNAME:CET
DTSTART:20261025T010000
END:STANDARD
END:VTIMEZONE
BEGIN:VEVENT
DTSTART;TZID=Europe/Zurich:20250530T130000
DTEND;TZID=Europe/Zurich:20250601T130000
DTSTAMP:20260422T202039
CREATED:20211227T135345Z
LAST-MODIFIED:20241118T075605Z
UID:6881-1748610000-1748782800@www.ursheld.ch
SUMMARY:DARSHAN mit HO
DESCRIPTION:DARSHAN  INTENSIVE  2025 mit HO \nin Walzenhausen / CH \n* \nWenn Dein Herz Dich ruft\, dann sei bereit\, dich von der Liebe berühren zu lassen: \n  \n* \n  \nTOPICS / THEMEN :  \nLiebe – Erkenntnis – Love – Realization\n \nfreies Sein in Nonduälität – free Life in Nonduality\n \nFrieden – Heilung    –   Peace – Healing \nWu-Wei – Handeln ohne Handelnden\n \n  \n* \n  \nDARSHAN – ZEITEN: \nFR . 30.05. :   13-15\,   15.30-17\,   19-21 \nSA 31.05. :     10-12\,     14-16\,      19.30-21 \nSO 01.06. :     9.30-11\,    11.30-13 \n  \n* \n  \nTAGESBEITRAG: \nFR und SA jeweils 75€ \nSO 50€ \nEinzeldarshan 30€ \n(Ermässigung auf Anfrage) \n  \n* \n  \nINFRASTRUKTURBEITRAG: \nFür die Infrastrukturbenutzung wird eine Gebühr von \nSfr. 25.- für den ganzen Anlass oder Sfr. 10.-/Tag/Person erhoben. \n  \n* \n  \nVERPFLEGUNG: \nFür das leibliche Wohl (Mittagessen und gesunde Pausenverpflegung) ist gesorgt.\nEine Spende ist sehr willkommen. Danke.\n\n* \n  \nBESCHRÄNKTE PARKMÖGLICHKEITEN: \nDie Parkplätze direkt vor Ort sind beschränkt. Wenn möglich Fahrgemeinschaften bilden oder mit dem ÖV anreisen. Die Bushaltestelle Hasenbrunnen liegt nur 100m vom Haus KUKUMBRIAN Platz 220 entfernt.\n\n* \n  \nINFORMATIONEN ZU HO: \nHO ist kein Name\, keine Person. \n\n\n\nHO ist der Schlag des Zen-Meisters auf den Kopf\ndes vermeintlichen Schülers und der Aufschrei desselben im\nblitzartigen Erkennen der EINEN Wahrheit aller Buddhas. \nHO lehrt unkonventionell\, liebevoll\, bissig-sanft\,\netwas schrullig\, verrückt im besten Sinne\n( jenseits der Sinne\, damit alles wieder ins rechte\nLicht gerückt wird und du frei sein kannst ). \nmehr Infos zu HO unter \n\n\n\n\n\n\nwww.stille.at \n www.jetzt-tv.net \n  \n* \n  \nHINWEIS ZIMMER VOR ORT: \nBitte um rechtzeitige Zimmerreservierung bei mehrtägigen Veranstaltungen am Kraftort platz440 in Walzenhausen\, da nur ein begrenztes Kontingent an Unterkünften vor Ort verfügbar ist. \n(room reservation necessary\, still a few rooms available) \n\n\n\n*\n\n\nHINWEIS ÜBERNACHTUNGSMÖGLICHKEITEN IN WALZENHAUSEN:\n\n   > Restaurant Gambrinus (im Zentrum; 1800 m vom Seminarort):   https://www.pizzeria-gambrinus.ch/\n   > Gästehaus Eisenhut (Ortsteil Lachen; 4000 m vom Seminarort):   https://www.gaestehaus-eisenhut.ch/\n   > Kloster Grimmenstein (Quartiernsnahe; 300m vom Seminarort): https://www.kloster-grimmenstein.ch/angebote/gaestehaus\n\n\n\n\n*\n\nANMELDUNG / ZIMMERRESERVATION: \n\nUrs Held \n* \nSei herzlich willkommen in das organismische DARSHANfeld einzutauchen\, Fragen zu stellen und die Kraft des UNIVERSELLEN SELBST immer tiefer zu erfahren \n* \n\n\n\nMögen alle fühlenden Wesen in FRIEDEN sein ! May all sentient Beings be in PEACE !
URL:https://www.ursheld.ch/ursheld/event/darshan-mit-ho/
LOCATION:kukumbrian – school of inner light\, Urs Held\, Platz 220 in 9428 Walzenhausen\, Appenzell Ausserrhoden (AR)\, Switzerland
CATEGORIES:Sat Sang
ATTACH;FMTTYPE=image/jpeg:https://www.ursheld.ch/ursheld/wp-content/uploads/2021/12/IMG_2838-rotated-e1731914866443.jpg
ORGANIZER;CN="Urs Held":MAILTO:urs@ursheld.ch
END:VEVENT
BEGIN:VEVENT
DTSTART;TZID=Europe/Zurich:20250606T190000
DTEND;TZID=Europe/Zurich:20250608T160000
DTSTAMP:20260422T202039
CREATED:20221123T135848Z
LAST-MODIFIED:20250701T100715Z
UID:7243-1749236400-1749398400@www.ursheld.ch
SUMMARY:Heiler 1 in Walzenhausen
DESCRIPTION:Heilkräfte in Dir entdecken . erinnern . entfalten\nDer Heiler 1 ist der Start einer sechsteiligen Ausbildungsreihe:\nIm Grundsatz gilt das Anfangs erwähnte erInnern\, erKennen\, erfahren und entfalten des in dir angelegten HeilerInnenpotenzials. Auf natürliche Weise werden folgende Themen in die Ausbildungsmodule miteinbezogen: \n\nbeim Heiler 1 sind das die Chakren\, Energiekörper (Aura)\, Lichtkörper\nbeim Heiler 2 sind das die vielfältigen Themen rund ums wirken aus dem Herz der Herzen (fünfte Herzkammer)\nbeim Heiler 3 sind das die vielfältigen Themen rund ums dritte Auge\nbeim Heiler 4 sind das mit Schwergewicht die innere vertikale Bewegung\, die Stille und Transzendenz\nbeim Heiler 5 das immer tiefere erkennen deiner Selbst (Sat-Chit-Ananda)\nbeim Heiler 6 das verweilen im Selbst und Erfahren von Weisheiten aus Ost und West\n\n\nIn diesem 6-teiligen Erinnerungs-Lehrgang geht es unter anderem um\n\n\nSelbstheilung – erfahre Heilung in dir\num das Rück-er-Innern und Reaktivierung deiner Heilerfähigkeiten aus der Weisheit deines Herzens\num die Entdeckung und Befreiung deines in dir liegenden individuellen Potenzials fern aller Methoden\num das lösen deiner individuellen Blockaden und Verstrickungen\, die dich davon abhalten in deiner wahren Grösse in der Welt zu wirken.\n\n\nWichtige Bemerkungen zur Methodik:\nUrs und Maik betrachten lernen als RückerInnern des bereits vorhandenen Wissens und sehen Heilung als pfadlosen\, offenen Weg. Aus diesem Grund werden hier bewusst keine Methoden vermittelt. Durch das geführte Einsinken nach Innen wirst du in der Tiefe zu deinen bereits in Dir angelegten Fähigkeiten und Potenzialen geführt. Dabei tauchen verschiedenste Heilmethoden von alleine auf. \nUrs und Maik wissen aus eigener Erfahrung\, dass jeder Mensch einen inneren Lehrer in sich trägt. Dieser spricht immerzu zu den Menschen und leitet ihn an. Nur wenige Menschen nehmen sich die Zeit\, diesem Lehrer zuzuhören\, da der Lärm des Alltags übermächtig erscheint. \nMaik und Urs sehen es als eine Ihrer Aufgaben\, die TN zu innerer Stille und Transzendenz zu begleiten. Dahin\, wo der innere Lehrer gehört wird und wahre Heilung geschehen kann. \nDurch das direkte Anwenden des Erkannten und Erfahrenen\, erhalten die TeilnehmerInnen Vertrauen in sich und die ureigenen Heilfähigkeiten. \nDieser gesamte Prozess wird offen\, achtsam und liebevoll von Urs und Maik begleitet. Alle TN erhalten immer wieder Heilung und Selbsterkenntnis in Gruppenhealings und Zweierarbeiten. \n\n  \nMit folgenden Fragen kannst Du überprüfen\, ob dieser Erinnerungsgang etwas für dich sein könnte:\n\nDu hast die Sehnsucht\, deine Heilkräfte und Heilpotenziale für dich und andere zu öffnen?\nDu willst dich persönlich weiter entwickeln und dich aus der Tiefe des Seins erfahren?\nDu arbeitest bereits als HeilerIn und möchtest dich weiter entwickeln und entfalten?\nDu suchst wahre Heilung die von Innen heraus geschieht?\n\n  \nWissenswertes:\nVeranstaltungsort: \n\nHaus zur Mitte\, Platz 221 in CH-9428 Walzenhausen\nFür Übernachtungen bitte direkt an\n\nUrs Held  wenden\n\n\n\nSeminarzeiten: \n\nFreitag:    10.00 – 18.00 Uhr\n\nMittagspause 13.00 – 14.30\nkleinere Pausen individuell\n\n\nSamstag:  10.00 – 18.00 Uhr\n\nMittagspause 13.00 – 14.30\nkleinere Pausen individuell\n\n\nSonntag:  09.30 – 16.00 Uhr\n\nMittagspause 12.30 – 14.00\nkleinere Pausen individuell\n\n\n\nSeminargebühr: \n\nAusbildungswochenende:   Sfr. / Euro 540.-\n\nAnmeldung:                  \n\nurs@ursheld.ch    /  0041 797535305\n\ninfo@praxis-maik-koekert.de    /  0049 160 7750784\n\n  \nAusbildungsleitung:\nUrs Held\, Mystiker\, wirkt als spiritueller Begleiter\, Heiler und Lehrer \nMaik Kökert wirkt als systemischer Therapeut\, Coach\, Körpertherapeut und Heiler \n  \nTeilnehmerstimmen:\n* Lieber Maik\, lieber Urs\, die Heilertage mit euch waren für mich wie ein Weckruf. Sie schenkten mir Klarheit für vieles\, was vorher nur ab und zu wie aus einem Nebel auftauchte. Die Beurteilungen und Verurteilungen für mich selbst\, der innere Richter\, sind viel leiser geworden. Und sie sind nicht mehr ständig da. Trotzdem ist es in mir ziemlich aufgewühlt. Verletzungen und Traumata zeigen sich\, die immer im Hintergrund versteckt waren. Diese Phasen werden abgelöst von Gefühlen der inneren Weite\, von Freude\, Glück und Liebe für Alles. Am meisten hallt in mir nach\, dass ich weicher\, milder mit mir selber sein kann\, fühlen kann was Barmherzigkeit für mich selbst ist. Die tiefe\, wahre Bedeutung dieses Wortes hat sich mir erst in der Meditation mit Maik gezeigt. Dafür bin ich sehr dankbar. Das hat in mir etwas bewegt. Euer liebevolles Zusammenarbeiten und das perfekte Hand in Hand während des ZusammenSeins\, waren wirklich sehr berührend. Es war eine Atmosphäre\, ein Feld voller Liebe und Hingabe. Ich bin sehr glücklich\, dass ich dabei sein konnte. Nochmals vielen herzlichen Dank dafür. Alles Liebe G. \n* Maik und Urs ist es gelungen\, mir einen Tag gefüllt von spannenden\, körperlich und spirituell gespürten Entdeckungen und Erfahrungen zu bereiten. Eine wunderschöne Entdeckungsreise ins Innere in Verbindung mit dem Herzen. Ein Raum voller gespürter fließenden vibrierenden Energien. Das Spüren der Energien aller TeilnehmerInnen. Ein intensives Gefühl der Verbundenheit miteinander!!  Jetzt geht es um das Umsetzen und Praktizieren um weiter zu wachsen zu meinem Ur-ich – wer ich wirklich bin. Das Loslassen der antrainierten Gewohnheiten und auftauchenden Themen\, die einen hemmen in der Weiterentwicklung. Schritt für Schritt weiter auf dem Weg\, der mir gezeigt wurde. Es war ein Tag\, der endete mit einem für mich schwierig zu beschreibenden unfassbaren Glücksgefühl!! Ein Heiltag\, den ich immer wieder dankbar genießen würde !! Einen super herzlichen Dank an Maik\, Urs und alle TeilnehmerInnen!!  N.P.W. \n* Lieber Maik\, N. hat mich gefragt\, ob ich Dir eine kurze Rückmeldung zu dem Sonntag geben kann. Dem komme ich sehr gern nach\, allerdings nicht in vier Zeilen. Diese acht Stunden haben mich sehr berührt und mir soviel gegeben! Eine Frischzellenkur quer durch alle vorstellbaren Ebenen. Am nachhaltigsten beeindruckt hat mich die Wiederherstellung meiner Verbindung zu einer meiner Ahninnen\, die mich\, solange ich denken kann\, leitet und unterstützt. Diese beschädigte Verbindung ist repariert und erfüllt mich spürbar mit neuer Kraft\, Zuversicht\, Hoffnung und Weitsicht. Ich kann gar nicht beschreiben\, wie dankbar ich Urs\, Dir und N. dafür bin. Ich kam nach Halberstadt voller Wut\, Angst und Gefühlen der Überforderung und verließ diesen heilsamen Ort\, randvoll gefüllt mit  Liebe und Lebensfreude. Kaum zu glauben\, dass dies die erste Veranstaltung dieser Art in Euren Räumlichkeiten war. Alles war sehr gut vorbereitet\, liebevoll und sehr achtsam gestaltet. Das leibliche Wohl wurde wunderbar gewürdigt und Eure Seelenarbeit glich einer sehr gelungenen Performance. Urs und Du\, Ihr habt Euch vortrefflich ergänzt und ein breites\, warmes und sehr reichhaltiges Angebot offeriert. Alle Teilnehmerinnen und Teilnehmer des ersten Tages haben sich ohne zu zögern auf das eingelassen\, was möglich war – ein perfekter Tag! Wenn Du einen weiteren Heilungstag anbietest\, möchte ich sehr gern mit meiner Frau A. teilnehmen. An dieser Stelle bitte ich Dich\, Urs von mir sehr herzlich zu grüßen\, denn auch diese Begegnung hat mich tief berührt. Vielen lieben Dank an Dich und eine herzliche Umarmung an alle\, die an der Gestaltung dieses Tages beteiligt waren. Auf bald!
URL:https://www.ursheld.ch/ursheld/event/heiler-1/
LOCATION:kukumbrian – school of inner light\, Urs Held\, Platz 220 in 9428 Walzenhausen\, Appenzell Ausserrhoden (AR)\, Switzerland
CATEGORIES:Ausbildung
ATTACH;FMTTYPE=image/jpeg:https://www.ursheld.ch/ursheld/wp-content/uploads/2020/03/Kukumbrian.jpg
END:VEVENT
BEGIN:VEVENT
DTSTART;TZID=Europe/Zurich:20250613T100000
DTEND;TZID=Europe/Zurich:20250615T163000
DTSTAMP:20260422T202039
CREATED:20241104T080122Z
LAST-MODIFIED:20250323T112851Z
UID:8193-1749808800-1750005000@www.ursheld.ch
SUMMARY:Willkommen im erleuchteten Leben
DESCRIPTION:„Lass die Schönheit von dem\, was du liebst\, zu dem werden\, was du tust. Es gibt tausend Wege\, sich nieder zu knien und die Erde zu küssen.“  Rumi \n  \nDieses Intensiv-Wochenende ist für alle geeignet die sich nach\n \n\neinem lebendigen Leben aus dem Urgrund des Seins \n\nwahrer Intelligenz \n\newigem Gewahrsein\nGlückseligkeit \n\nLiebe und\nFrieden \n\n\nsehnen oder einfach neugierig sind\, was ein wahrhaftiges Leben für sie bereit hält\n \n  \nEs ist die Fortsetzung der Teil der Trilogie \n\nWillkommen im erleuchteten Herzen – ich fühle\,  also bin ich (04. bis 06. Oktober 2024)\nWillkommen im erleuchteten Nichts – wer bin ich\, ohne eine Geschichte (10. bis 12. Januar 2025)\nWillkommen im erleuchteten Leben –  wie fühlt sich das Leben an\, wenn du dich vom Leben leben lässt (07. bis 09. März 2025)\n\nDu bist herzlich willkommen und kannst jederzeit auch in diesem Teil einsteigen \n  \nFolgende Themen werden innerlich erfahrbar:\n \n\nWillkommen im erleuchteten Herzen\nWillkommen im erleuchteten Nichts\nDas erleuchtete Leben\n\ndas was Du in Wahrheit BIST\, braucht keine Erleuchtung\nWie entsteht Leben wirklich?\nDas Wesen des Lebens\nDer Klang der Wahrheit über das Leben\nin die Gegenwärtigkeit des Lebens leben\n„mindset“ – wie frei bin ich in der Gestaltung des Lebens?\n\nfreier Wille oder\nKarma / Schicksal?\nGibt es ein Leben ohne Leid?\n\nwenn ja: was sind die Voraussetzungen dafür?\nwenn nein: was hat das Weltentheater dann für einen Sinn?\n\n\n\n\n\n\nWünsche\, Träume\, Visionen\, Sinn erkennen und erforschen\n\nwas ist der tiefste Herzenswunsch meiner Seele?\nwas kann ich tun um dies zu leben?\nfür was lebe ich dieses Leben?\n\n\nZiele im Leben\n\nbraucht das Leben Ziele?\nLeben mit oder ohne Ziele?\nDu willst Ziele\n\nwie hast du sie bisher erreicht?\nwie könntest du sie in der Gegenwärtigkeit erreichen?\n\n\n\n\neigene Sterblichkeit – Tod\n\nauseinandersetzen mit der eigenen Sterblichkeit\nKlang vom Sterben\nSterben um zu Leben?\nwer oder was stirbt eigentlich?\n\n\nICH BIN ist der Vorname Gottes\n\nwas bedeutet das?\nwie ist das für dich erfahrbar?\nbist Du DAS?\n\n\nHerzensangelegenheiten:\n\nKraft aus der Stille des Herzens\ndas oberste Ziel des Herzens:\n\nSat (reines Gewahrsein)\nChit (göttliche Intelligenz\, Bewusstsein)\nAnanda (Freude\, Glückseligkeit)\n\n\n\n\nDrei Tugenden für ein für ein freies\, glückliches Leben\n\nMitgefühl\nDemut\nDienen\n\n\ninnere Stimme und Intuition\n \n\nEinsichten jenseits des Verstandes erkennen und leben\n\nbist Du bereit dazu?\n\n\n\n\nInspiration und Schönheit\n\nkosmisches Bewusstsein\n\n\nWu-Wei\n\nHandeln ohne eine Handelnde oder einen Handelnden\nNiemand tut etwas und doch wird alles getan\n\n\n\n  \nEntwicklung und Entfaltung deiner Persönlichkeit:\n \n\nDu bist immer stärker eingebettet in einem wahrhaftigen Leben\nDu mit allen deinen Potenzialen und allen (Energie-) Körpern in Raum und Zeit\nWas genau ist für dich wichtig\n\nwas ist dein pfadloser Pfad\, um mit deinem wahren Sein – dem Leben das du bist – eins zu werden\nWelche Lebensmuster und Ängste hindern dich daran\, deiner innersten Sehnsucht zu vertrauen und ihr bedingungslos zu folgen\nWelche Geschichten erzählst du dir und anderen immer wieder – bist Du bereit alles so anzunehmen wie es ist und war?\nWelche Haltung brauchst Du jetzt\, um deine Aufgaben oder anstehenden Transformationen in vollständiger Einheit mit dem Leben\, zu erkennen und umzusetzen\nWas geschieht mit deinem Leben\, wenn du über das personale Bewusstsein hinaus gehst\n\n\n\n  \nVeranstaltungsort: \n\nHaus Kukumbrian\, Platz 220 in CH-9428 Walzenhausen\n\n  \nÜbernachtungen: \n\nFür Übernachtungen direkt vor Ort (Angebot beschränkt) bitte direkt an Urs Held wenden.\n\n\nWeitere Übernachtungsmöglichkeiten:\n\n\nRestaurant Gambrinus (im Zentrum; 1800 m vom Seminarort):   https://www.pizzeria-gambrinus.ch/\n\n\nGästehaus Eisenhut (Ortsteil Lachen; 4000 m vom Seminarort):   https://www.gaestehaus-eisenhut.ch/\n\n\nKloster Grimmenstein (Quartiernsnahe; 300m vom Seminarort): https://www.kloster-grimmenstein.ch/angebote/gaestehaus\n\n\n\n\n  \nSeminarzeiten: \n\nFreitag:    10.00 – 18.00 Uhr\n\nMittagspause 13.00 – 14.30\nkleinere Pausen individuell\n\n\nSamstag:  9.30 – 18.00 Uhr\n\nMittagspause 13.00 – 14.30\nkleinere Pausen individuell\n\n\nSonntag:  09.30 – 16.30 Uhr\n\nMittagspause 12.30 – 14.00\nkleinere Pausen individuell\n\n\n\n  \nSeminargebühr: \n\nSfr. / Euro 540.-\n\n  \nSeminarleitung und Anmeldung:      \n\nUrs Held:             urs@ursheld.ch    /  0041 79 753 53 05\nMelanie Lucht:    melanie.lucht@bluewin.ch   /  0041 78 791 93 56\n\nDie TeilnehmerInnenzahl ist auf 12 Personen beschränkt \nWir freuen uns auf Dich! \n  \n 
URL:https://www.ursheld.ch/ursheld/event/willkommen-im-erleuchteten-leben/
LOCATION:kukumbrian – school of inner light\, Urs Held\, Platz 220 in 9428 Walzenhausen\, Appenzell Ausserrhoden (AR)\, Switzerland
CATEGORIES:Seminare
ATTACH;FMTTYPE=image/jpeg:https://www.ursheld.ch/ursheld/wp-content/uploads/2024/11/IMG_2408-rotated-e1730707256898.jpg
END:VEVENT
END:VCALENDAR