BEGIN:VCALENDAR
VERSION:2.0
PRODID:-//Urs Held - ECPv6.15.20//NONSGML v1.0//EN
CALSCALE:GREGORIAN
METHOD:PUBLISH
X-ORIGINAL-URL:https://www.ursheld.ch/ursheld
X-WR-CALDESC:Veranstaltungen für Urs Held
REFRESH-INTERVAL;VALUE=DURATION:PT1H
X-Robots-Tag:noindex
X-PUBLISHED-TTL:PT1H
BEGIN:VTIMEZONE
TZID:Europe/Zurich
BEGIN:DAYLIGHT
TZOFFSETFROM:+0100
TZOFFSETTO:+0200
TZNAME:CEST
DTSTART:20240331T010000
END:DAYLIGHT
BEGIN:STANDARD
TZOFFSETFROM:+0200
TZOFFSETTO:+0100
TZNAME:CET
DTSTART:20241027T010000
END:STANDARD
BEGIN:DAYLIGHT
TZOFFSETFROM:+0100
TZOFFSETTO:+0200
TZNAME:CEST
DTSTART:20250330T010000
END:DAYLIGHT
BEGIN:STANDARD
TZOFFSETFROM:+0200
TZOFFSETTO:+0100
TZNAME:CET
DTSTART:20251026T010000
END:STANDARD
BEGIN:DAYLIGHT
TZOFFSETFROM:+0100
TZOFFSETTO:+0200
TZNAME:CEST
DTSTART:20260329T010000
END:DAYLIGHT
BEGIN:STANDARD
TZOFFSETFROM:+0200
TZOFFSETTO:+0100
TZNAME:CET
DTSTART:20261025T010000
END:STANDARD
END:VTIMEZONE
BEGIN:VEVENT
DTSTART;TZID=Europe/Zurich:20250829T100000
DTEND;TZID=Europe/Zurich:20250831T163000
DTSTAMP:20260422T202104
CREATED:20250309T130925Z
LAST-MODIFIED:20250709T140729Z
UID:8427-1756461600-1756657800@www.ursheld.ch
SUMMARY:Willkommen im erleuchteten Leben
DESCRIPTION:„Lass die Schönheit von dem\, was du liebst\, zu dem werden\, was du tust. Es gibt tausend Wege\, sich nieder zu knien und die Erde zu küssen.“  Rumi \n  \nDieses Intensiv-Wochenende ist für alle geeignet die sich nach\n \n\neinem lebendigen Leben aus dem Urgrund des Seins \n\nwahrer Intelligenz \n\newigem Gewahrsein\nGlückseligkeit \n\nLiebe und\nFrieden \n\n\nsehnen oder einfach neugierig sind\, was ein wahrhaftiges Leben für sie bereit hält\n \n  \nFolgende Themen werden innerlich erfahrbar:\n \n\nDer göttliche Tanz von Yin und Yang\nWillkommen im erleuchteten Herzen\nWillkommen im erleuchteten Nichts\nDas erleuchtete Leben\n\ndas was Du in Wahrheit BIST\, braucht keine Erleuchtung\nWie entsteht Leben wirklich?\nDas Wesen des Lebens\nDer Klang der Wahrheit über das Leben\nin die Gegenwärtigkeit des Lebens leben\n„mindset“ – wie frei bin ich in der Gestaltung des Lebens?\n\nfreier Wille oder\nKarma / Schicksal?\nGibt es ein Leben ohne Leid?\n\nwenn ja: was sind die Voraussetzungen dafür?\nwenn nein: was hat das Weltentheater dann für einen Sinn?\n\n\n\n\n\n\nWünsche\, Träume\, Visionen\, Sinn erkennen und erforschen\n\nwas ist der tiefste Herzenswunsch meiner Seele?\nwas kann ich tun um dies zu leben?\nfür was lebe ich dieses Leben?\n\n\nZiele im Leben\n\nbraucht das Leben Ziele?\nLeben mit oder ohne Ziele?\nDu willst Ziele\n\nwie hast du sie bisher erreicht?\nwie könntest du sie in der Gegenwärtigkeit erreichen?\n\n\n\n\neigene Sterblichkeit – Tod\n\nauseinandersetzen mit der eigenen Sterblichkeit\nKlang vom Sterben\nSterben um zu Leben?\nwer oder was stirbt eigentlich?\n\n\nICH BIN ist der Vorname Gottes\n\nwas bedeutet das?\nwie ist das für dich erfahrbar?\nbist Du DAS?\n\n\nHerzensangelegenheiten:\n\nKraft aus der Stille des Herzens\ndas oberste Ziel des Herzens:\n\nSat (reines Gewahrsein)\nChit (göttliche Intelligenz\, Bewusstsein)\nAnanda (Freude\, Glückseligkeit)\n\n\n\n\nDrei Tugenden für ein für ein freies\, glückliches Leben\n\nMitgefühl\nDemut\nDienen\n\n\ninnere Stimme und Intuition\n \n\nEinsichten jenseits des Verstandes erkennen und leben\n\nbist Du bereit dazu?\n\n\n\n\nInspiration und Schönheit\n\nkosmisches Bewusstsein\n\n\nWu-Wei\n\nHandeln ohne eine Handelnde oder einen Handelnden\nNiemand tut etwas und doch wird alles getan\n\n\n\n  \nEntwicklung und Entfaltung deiner Persönlichkeit:\n \n\nDu bist immer stärker eingebettet in einem wahrhaftigen Leben\nDu mit allen deinen Potenzialen und allen (Energie-) Körpern in Raum und Zeit\nWas genau ist für dich wichtig\n\nwas ist dein pfadloser Pfad\, um mit deinem wahren Sein – dem Leben das du bist – eins zu werden\nWelche Lebensmuster und Ängste hindern dich daran\, deiner innersten Sehnsucht zu vertrauen und ihr bedingungslos zu folgen\nWelche Geschichten erzählst du dir und anderen immer wieder – bist Du bereit alles so anzunehmen wie es ist und war?\nWelche Haltung brauchst Du jetzt\, um deine Aufgaben oder anstehenden Transformationen in vollständiger Einheit mit dem Leben\, zu erkennen und umzusetzen\nWas geschieht mit deinem Leben\, wenn du über das personale Bewusstsein hinaus gehst\n\n\n\n  \nVeranstaltungsort: \n\nHaus Kukumbrian\, Platz 220 in CH-9428 Walzenhausen\n\n  \nÜbernachtungen: \n\nFür Übernachtungen direkt vor Ort (Angebot beschränkt) bitte direkt an Urs Held wenden.\n\n\nWeitere Übernachtungsmöglichkeiten:\n\n\nRestaurant Gambrinus (im Zentrum; 1800 m vom Seminarort):   https://www.pizzeria-gambrinus.ch/\n\n\nGästehaus Eisenhut (Ortsteil Lachen; 4000 m vom Seminarort):   https://www.gaestehaus-eisenhut.ch/\n\n\nKloster Grimmenstein (Quartiernsnahe; 300m vom Seminarort): https://www.kloster-grimmenstein.ch/angebote/gaestehaus\n\n\n\n\n  \nSeminarzeiten: \n\nFreitag:    10.00 – 18.00 Uhr\n\nMittagspause 13.00 – 14.30\nkleinere Pausen individuell\n\n\nSamstag:  9.30 – 18.00 Uhr\n\nMittagspause 13.00 – 14.30\nkleinere Pausen individuell\n\n\nSonntag:  09.30 – 16.30 Uhr\n\nMittagspause 12.30 – 14.00\nkleinere Pausen individuell\n\n\n\n  \nSeminargebühr: \n\nSfr. / Euro 540.-\n\n  \nSeminarleitung und Anmeldung:      \n\nUrs Held:             urs@ursheld.ch    /  0041 79 753 53 05\nMelanie Lucht:    melanie.lucht@bluewin.ch   /  0041 78 791 93 56\n\nDie TeilnehmerInnenzahl ist auf 12 Personen beschränkt \nWir freuen uns auf Dich! \n  \n 
URL:https://www.ursheld.ch/ursheld/event/willkommen-im-erleuchteten-leben-2/
LOCATION:kukumbrian – school of inner light\, Urs Held\, Platz 220 in 9428 Walzenhausen\, Appenzell Ausserrhoden (AR)\, Switzerland
CATEGORIES:Seminare
ATTACH;FMTTYPE=image/jpeg:https://www.ursheld.ch/ursheld/wp-content/uploads/2025/01/signet-urs-gold-e1739186242375.jpg
END:VEVENT
END:VCALENDAR